BEGIN:VCALENDAR
VERSION:2.0
PRODID:-//wp-events-plugin.com//7.2.3.1//EN
TZID:Europe/Rome
X-WR-TIMEZONE:Europe/Rome
BEGIN:VEVENT
UID:38671@lazioeventi.com
DTSTART;TZID=Europe/Rome:20250627T180000
DTEND;TZID=Europe/Rome:20250629T000000
DTSTAMP:20250130T131504Z
URL:https://lazioeventi.com/eventi/vinointorno-alla-ricerca-delle-eccellen
 ze
SUMMARY:VINOINTORNO - Alla ricerca delle eccellenze - Olevano Romano - 27 G
 iugno 25 18:00
DESCRIPTION:VINOINTORNO\n-Alla ricerca delle eccellenze-\nXI EDIZIONE\n L
 ’undicesima edizione di Vinointorno è ufficialmente in arrivo! L’even
 to\, divenuto un punto di riferimento per gli appassionati di enogastronom
 ia\, tornerà a Olevano Romano nelle seguenti date:\nVenerdì 20 e Sabato 
 21 Giugno 2025\nVenerdì 27\, Sabato 28 e Domenica 29 Giugno 2025\n\nOrgan
 izzato dall’Associazione Extrawine\, Vinointorno celebra l’incontro tr
 a vino\, sapori autentici e cultura gastronomica\, offrendo ai partecipant
 i la possibilità di scoprire un’ampia selezione di etichette pregiate e
  di immergersi nelle migliori tradizioni culinarie.\n\nAnche per questa ed
 izione\, Olevano Romano si trasformerà in un palcoscenico dedicato al gus
 to\, accogliendo produttori\, esperti del settore e visitatori desiderosi 
 di vivere un’esperienza sensoriale unica.\n\nNovità Importante: Da oggi
 \, per qualsiasi informazione sui nostri eventi\, Extrawine è attiva con 
 un nuovo numero di telefono (‪+39 378 066 0278‬)\, a disposizione di a
 ppassionati\, espositori e media.\n\nMaggiori dettagli sul programma e le 
 iniziative in calendario verranno svelati nei prossimi mesi. Nel frattempo
 \, invitiamo tutti a restare aggiornati attraverso i nostri canali ufficia
 li.\n\nPer informazioni e contatti:\nwww.vinointorno.it\nextrawineassociaz
 ione@gmail.com\n\nA presto con nuove sorprese e brindisi indimenticabili!\
 n\nOlevano Romano\, 29/01/2025\n\nExtrawine
ATTACH;FMTTYPE=image/jpeg:https://lazioeventi.com/wp-content/uploads/2025/
 01/datr-2025.jpg
CATEGORIES:Arte e Cultura nel Lazio,Fiere e Mercatini nel Lazio,Sagre,
 Gastronomia e Tradizioni nel Lazio
LOCATION:Olevano Romano\, Comune\, Olevano Romano\, Roma\, Lazio\, Italia
GEO:41.8605;13.0322
X-APPLE-STRUCTURED-LOCATION;VALUE=URI;X-ADDRESS=Comune\, Olevano Romano\, R
 oma\, Lazio\, Italia;X-APPLE-RADIUS=100;X-TITLE=Olevano Romano:geo:41.8605
 ,13.0322
END:VEVENT
BEGIN:VTIMEZONE
TZID:Europe/Rome
X-LIC-LOCATION:Europe/Rome
BEGIN:DAYLIGHT
DTSTART:20250330T030000
TZOFFSETFROM:+0100
TZOFFSETTO:+0200
TZNAME:CEST
END:DAYLIGHT
END:VTIMEZONE
END:VCALENDAR