BEGIN:VCALENDAR
VERSION:2.0
PRODID:-//wp-events-plugin.com//7.2.3.1//EN
TZID:Europe/Rome
X-WR-TIMEZONE:Europe/Rome
BEGIN:VEVENT
UID:44245@lazioeventi.com
DTSTART;TZID=Europe/Rome:20260419T123000
DTEND;TZID=Europe/Rome:20260419T160000
DTSTAMP:20260415T064936Z
URL:https://lazioeventi.com/eventi/vintage-futura-market
SUMMARY:Vintage Futura Market - Roma - 19 Aprile 26 12:30
DESCRIPTION:Roma si prepara ad accogliere la prima edizione di Vintage Futu
 ra Market\, in programma domenica 19 aprile presso il Lian Club\, uno spaz
 io che per l’occasione si trasformerà in un punto d’incontro tra moda
 \, design e cultura contemporanea.\n\nL’evento nasce con l’obiettivo d
 i mettere in dialogo passato e futuro\, attraverso una selezione di realt
 à che spaziano dal vintage alla ricerca sartoriale\, fino alle nuove form
 e di espressione legate alla moda e all’arte.\n\nTra i protagonisti anch
 e LE MIKKE\, progetto che si muove tra pratica sartoriale e linguaggio vis
 ivo\, proponendo una visione dell’abito che supera la dimensione del cap
 o come prodotto. Le loro creazioni si configurano come superfici narrative
 \, in cui materiali\, segni e parole contribuiscono a costruire un’ident
 ità visiva contemporanea.\n\nIn linea con questo approccio\, l’allestim
 ento sarà arricchito dalla presenza di opere d’arte\, realizzato in col
 laborazione con ARE ARTE Galleria (Roma)\, rafforzando il dialogo tra moda
  e pratica artistica all’interno dello spazio espositivo.\n\nVintage Fut
 ura Market si presenta così come un evento capace di unire pubblico e ope
 ratori del settore in un contesto dinamico e accessibile\, accompagnato da
  momenti di intrattenimento musicale e attività collaterali.\n\nBrunch &a
 mp\; Music dalle ore 12\n\nContatti e informazioni\nVintage Futura Market\
 nInstagram: @vintage_futura\nhttps://www.instagram.com/vintage_futura\n\nL
 E MIKKE\nInstagram: @lemikke_\nhttps://www.instagram.com/lemikke_\nARE ART
 E Galleria\nInstagram: @arearte_galleria\n\nArticolo a cura di\nIlaria Gia
 cobbi\nContent creator per LE MIKKE
ATTACH;FMTTYPE=image/jpeg:https://lazioeventi.com/wp-content/uploads/2026/
 04/IMG_4880.jpeg
CATEGORIES:Fiere e Mercatini nel Lazio
LOCATION:Roma\, Via Leopardi\, Roma\, Roma\, Lazio\, Italia
GEO:41.8942;12.5017
X-APPLE-STRUCTURED-LOCATION;VALUE=URI;X-ADDRESS=Via Leopardi\, Roma\, Roma\
 , Lazio\, Italia;X-APPLE-RADIUS=100;X-TITLE=Roma:geo:41.8942,12.5017
END:VEVENT
BEGIN:VTIMEZONE
TZID:Europe/Rome
X-LIC-LOCATION:Europe/Rome
BEGIN:DAYLIGHT
DTSTART:20260329T030000
TZOFFSETFROM:+0100
TZOFFSETTO:+0200
TZNAME:CEST
END:DAYLIGHT
END:VTIMEZONE
END:VCALENDAR