BEGIN:VCALENDAR
VERSION:2.0
PRODID:-//wp-events-plugin.com//7.2.3.1//EN
TZID:Europe/Rome
X-WR-TIMEZONE:Europe/Rome
BEGIN:VEVENT
UID:37999@lazioeventi.com
DTSTART;TZID=Europe/Rome:20231209T180000
DTEND;TZID=Europe/Rome:20231209T234500
DTSTAMP:20231130T122429Z
URL:https://lazioeventi.com/eventi/vinum-il-nettare-degli-dei
SUMMARY:Vinum "Il nettare degli dei" - Arpino - 9 Dicembre 23 18:00
DESCRIPTION:Ad Arpino Sabato 9 Dicembre 2023 torna l'appuntamento con Vinum
  "Il nettare degli dei" dalle 18:00 alle 24:00 nelle attività del centro 
 storico con 15 degustazioni e 15 momenti di gusto…
ATTACH;FMTTYPE=image/jpeg:https://lazioeventi.com/wp-content/uploads/2023/
 11/vinum_arpino2023_670.jpg
CATEGORIES:Sagre, Gastronomia e Tradizioni nel Lazio
LOCATION:Arpino\, Comune di Arpino\, Arpino\, Frosinone\, Lazio\, Italia
GEO:41.648;13.6106
X-APPLE-STRUCTURED-LOCATION;VALUE=URI;X-ADDRESS=Comune di Arpino\, Arpino\,
  Frosinone\, Lazio\, Italia;X-APPLE-RADIUS=100;X-TITLE=Arpino:geo:41.648,1
 3.6106
END:VEVENT
BEGIN:VTIMEZONE
TZID:Europe/Rome
X-LIC-LOCATION:Europe/Rome
BEGIN:STANDARD
DTSTART:20231029T020000
TZOFFSETFROM:+0200
TZOFFSETTO:+0100
TZNAME:CET
END:STANDARD
END:VTIMEZONE
END:VCALENDAR