BEGIN:VCALENDAR
VERSION:2.0
PRODID:-//wp-events-plugin.com//7.2.3.1//EN
TZID:Europe/Rome
X-WR-TIMEZONE:Europe/Rome
BEGIN:VEVENT
UID:42967@lazioeventi.com
DTSTART;TZID=Europe/Rome:20251122T170000
DTEND;TZID=Europe/Rome:20251122T183000
DTSTAMP:20251103T092613Z
URL:https://lazioeventi.com/eventi/violenza-di-genere-il-codice-rosso-tra-
 tutela-delle-vittime
SUMMARY:Violenza di genere: il Codice Rosso tra tutela delle vittime - Tarq
 uinia - 22 Novembre 25 17:00
DESCRIPTION:Al via la terza edizione di “Pillole di Psicologia”\, incon
 tri per il benessere e la consapevolezza\nLa rassegna è ideata e curata d
 alla psicologa Claudia Rossetti\, in collaborazione con la Stas e il patro
 cinio del Comune di Tarquinia\n \nPrenderà il via l’8 novembre 2025 la 
 terza edizione “Pillole di Psicologia”\, la rassegna ideata e curata d
 alla psicologa e psicoterapeuta familiare Claudia Rossetti\, in collaboraz
 ione con la Società Tarquiniense d’Arte e Storia (Stas) e con il patroc
 inio del Comune di Tarquinia. L’iniziativa si svilupperà in una serie d
 i incontri che si terranno\, come di consueto\, il sabato pomeriggio alle 
 17\, presso la sala Sacchetti\, al civico 4 di via dell’Archetto.\n \nIl
  titolo “Pillole di Psicologia” nasce dal desiderio di proporre moment
 i di riflessione brevi ma intensi\, accessibili a tutti e capaci di stimol
 are consapevolezza e curiosità. Le “pillole” rappresentano infatti co
 ntenuti concentrati e diretti\, che affrontano temi di psicologia e salute
  in modo chiaro\, coinvolgente e interdisciplinare. Ogni incontro\, della 
 durata di circa un’ora e mezza\, offrirà uno spazio di confronto tra re
 latori e pubblico\, in un clima aperto e partecipativo\, dove sarà possib
 ile porre domande\, condividere esperienze e riflettere insieme. In ogni a
 ppuntamento la dottoressa Rossetti sarà affiancata da diversi professioni
 sti provenienti da ambiti complementari\, per proporre una visione sistemi
 ca e integrata della persona. L’obiettivo del progetto è quello di prom
 uovere la cultura del benessere psicologico\, sensibilizzare su temi di in
 teresse sociale e contribuire alla prevenzione del disagio attraverso il d
 ialogo e la divulgazione scientifica.\n \nIl primo incontro si terrà l’
 8 novembre con il tema “Genitori fantastici e dove trovarli: la rete che
  guida e sostiene la famiglia”\, a cui parteciperanno la psicomotricista
  Margherita Sacchi e l’ostetrica Martina Falomi. \n\nIl 15 novembre sar
 à la volta di “Il profumo delle emozioni: la naturopatia incontra la ps
 icologia”\, con la naturopata Roberta Di Rocco. \n\nIl 22 novembre\, nel
 l’ambito delle iniziative inserite nella Giornata internazionale per l'e
 liminazione della violenza contro le donne\, si terrà nella sala consilia
 re del palazzo comunale il convegno “Violenza di genere: il Codice Rosso
  tra tutela delle vittime\, giustizia efficace e supporto psicologico”\,
  con la partecipazione dell’avvocato Paolo Pirani\, dell’ingegnere Pao
 lo Reale\, esperto di informatica forense\, e della dottoressa Marina Bald
 i\, genetista Forense.\n \nIl ciclo proseguirà il 6 dicembre con “Psico
 logia allo specchio: autostima e percezione di sé in chirurgia estetica
 ”\, insieme al dermochirurgo Paolo Sbano\, per poi concludersi il 13 dic
 embre con “Il respiro delle cellule\, la luce della mente: le terapie bi
 o-rigenerative e l’ozonoterapia per il benessere psico-fisico dell’ind
 ividuo”\, a cura della della medica oncologa e ozonoterapeuta Rita Brand
 i. \n\nTutti gli incontri sono a ingresso libero e rappresentano un’occa
 sione preziosa per avvicinarsi alla psicologia in modo semplice e diretto\
 , attraverso il dialogo tra discipline e il contatto umano tra esperti e c
 ittadini. “Pillole di Psicologia” si conferma un appuntamento ormai co
 nsolidato nel panorama culturale tarquiniese\, un punto d’incontro tra s
 cienza\, esperienza e partecipazione\, dove la conoscenza diventa strument
 o di benessere e crescita personale. 
ATTACH;FMTTYPE=image/jpeg:https://lazioeventi.com/wp-content/uploads/2024/
 11/Locandina-Pillole-di-Psicologia.jpg
CATEGORIES:Arte e Cultura nel Lazio
LOCATION:Tarquinia\, Comune\, Tarquinia\, Viterbo\, Lazio\, Italia
GEO:42.2546;11.7584
X-APPLE-STRUCTURED-LOCATION;VALUE=URI;X-ADDRESS=Comune\, Tarquinia\, Viterb
 o\, Lazio\, Italia;X-APPLE-RADIUS=100;X-TITLE=Tarquinia:geo:42.2546,11.758
 4
END:VEVENT
BEGIN:VTIMEZONE
TZID:Europe/Rome
X-LIC-LOCATION:Europe/Rome
BEGIN:STANDARD
DTSTART:20251026T020000
TZOFFSETFROM:+0200
TZOFFSETTO:+0100
TZNAME:CET
END:STANDARD
END:VTIMEZONE
END:VCALENDAR