BEGIN:VCALENDAR
VERSION:2.0
PRODID:-//wp-events-plugin.com//7.2.3.1//EN
TZID:Europe/Rome
X-WR-TIMEZONE:Europe/Rome
BEGIN:VEVENT
UID:29849@lazioeventi.com
DTSTART;TZID=Europe/Rome:20220710T210000
DTEND;TZID=Europe/Rome:20220710T223000
DTSTAMP:20220621T082950Z
URL:https://lazioeventi.com/eventi/visionary-opera
SUMMARY:Visionary Opera - Terracina - 10 Luglio 22 21:00
DESCRIPTION:“Visionary Opera”: è questo il titolo della nuova produzio
 ne della giovane compagnia “Danza D’Autore“ diretta da Kevin Arduini
  e Fausto Paparozzi.\n\nUno straordinario ed imperdibile spettacolo di dan
 za ed opera lirica ispirata all’arte contemporanea che intende condurre 
 lo spettatore in un emozionante viaggio nei brani più famose della lirica
 \, puntando l’attenzione su una chiave del tutto innovativa e visionaria
 : “si avrà come la sensazione di assistere ad un sogno – si legge in 
 una nota inviata a questa redazione – i personaggi trasportati dalla pot
 enza incantatoria di queste musiche sublimi\, si troveranno ad affrontare 
 i loro sogni e desideri più reconditi. Infine\, tornando nella realtà\, 
 porteranno con loro i preziosi valori di amore\, fratellanza e libertà ri
 velati dalle opere liriche stesse”.\n\nL’evento\, come detto\, è orga
 nizzato da Kevin Arduini e Fausto Paparozzi\, talentuosi ballerini solisti
  della Compagnia “Astra Roma Ballet” diretta da Diana Ferrara\, étoil
 e internazionale del Teatro dell’Opera di Roma che sarà presente alla s
 erata come ospite assieme alla star del Teatro Bol’šoj di Mosca Andrei 
 Fedotov e alla nota cantante lirica Giada Sabellico.\n\nCAST DANZATORI E F
 IGURANTI\nDi seguito\, il cast completo dei danzatori e dei figuranti che 
 si esibiranno domenica pomeriggio ad Anagni:\n\n 	Kevin Arduini (Astra Rom
 a Ballet Company Diana Ferrara étoile Teatro dell’Opera di Roma/Compagn
 ia Danza D’autore)\n 	Fausto Paparozzi\, attore e danzatore professionis
 ta (Astra Roma Ballet Company/ Compagnia Danza D’autore/ Compagnia Inter
 nazionale di Danze Storiche)\n 	Laura Guarisco (ballerina RAI/ Peridance N
 ew York)\n 	Martina Ardovini (musical internazionale Notte Dame de Paris\,
  Balletto di Roma. Danzatrice professionista)\n 	Giulia Colcesara (Compagn
 ia Danza D’autore\, Astra Roma Ballet Company. Danzatrice professionista
 )\n 	Camilla Madama (Compagnia Danza D’autore\, Astra Roma Ballet Compan
 y. Danzatrice professionista) si alterna con Elisa Amendola (della Perm Va
 ganova di San Pietroburgo. Danzatrice professionista)\n 	Rosanna Cacciarel
 la (fotomodella professionista\, danzatrice professionista freelance)\n 	F
 rancesca Bracaglia (figurante caratterista)\n 	Giada Sabellico (cantante l
 irica)\n 	Melissa Arduini (attrice/presentatrice)\n
ATTACH;FMTTYPE=image/jpeg:https://lazioeventi.com/wp-content/uploads/2022/
 06/locandina-29-giugno-2022.jpg
CATEGORIES:Musica, Spettacoli e Danza nel Lazio
LOCATION:Terracina\, Comune\, Terracina\, Latina\, Lazio\, Italia
GEO:41.2912;13.2492
X-APPLE-STRUCTURED-LOCATION;VALUE=URI;X-ADDRESS=Comune\, Terracina\, Latina
 \, Lazio\, Italia;X-APPLE-RADIUS=100;X-TITLE=Terracina:geo:41.2912,13.2492
END:VEVENT
BEGIN:VTIMEZONE
TZID:Europe/Rome
X-LIC-LOCATION:Europe/Rome
BEGIN:DAYLIGHT
DTSTART:20220327T030000
TZOFFSETFROM:+0100
TZOFFSETTO:+0200
TZNAME:CEST
END:DAYLIGHT
END:VTIMEZONE
END:VCALENDAR