BEGIN:VCALENDAR
VERSION:2.0
PRODID:-//wp-events-plugin.com//7.2.3.1//EN
TZID:Europe/Rome
X-WR-TIMEZONE:Europe/Rome
BEGIN:VEVENT
UID:42808@lazioeventi.com
DTSTART;TZID=Europe/Rome:20260529T000000
DTEND;TZID=Europe/Rome:20260529T000000
DTSTAMP:20251020T090023Z
URL:https://lazioeventi.com/eventi/visita-al-palazzo-della-farnesina-2025-
 10-31-2025-11-28-2025-12-26-2026-01-30-2026-02-27-2026-03-27-2026-04-24-20
 26-05-29
SUMMARY:Visita al Palazzo della Farnesina - Roma - 29 Maggio 26 00:00
DESCRIPTION:Il Palazzo della Farnesina\, sede del Ministero degli Affari Es
 teri a Roma\, apre le sue porte al pubblico per svelare non solo i suoi am
 bienti istituzionali ma anche la sua preziosa Collezione di arte contempor
 anea.\n\nQuesta opportunità è offerta grazie all'iniziativa "Aperti per 
 Voi" del Touring Club Italiano\, che permette di accedere a luoghi di cult
 ura solitamente non visitabili.\nInformazioni Chiave per la Visita\n\n 	Qu
 ando: Ogni ultimo venerdì del mese\, ad eccezione dei mesi di luglio e ag
 osto.\n 	Costo: La visita è completamente gratuita.\n 	Durata: Circa 90 m
 inuti.\n 	Prenotazione: La prenotazione è obbligatoria e deve essere effe
 ttuata sul sito ufficiale. È strettamente personale e non può essere ced
 uta.\n\nPercorsi di Visita Disponibili\nVengono offerti tre diversi tour t
 ematici\, ognuno con un orario specifico:\n\n 	Ore 12:00: Tour focalizzato
  sui maestri del Novecento (primo piano) e sulla galleria della fotografia
  (quinto piano).\n 	Ore 14:30: Visita dedicata ai maestri del Novecento (p
 rimo piano) e alle correnti artistiche degli anni '80 e '90 (secondo piano
 ).\n 	Ore 15:00: Un percorso istituzionale che include gli ambienti di rap
 presentanza del Palazzo\, la suggestiva "Sala delle Bandiere" (la più gra
 nde raccolta di bandiere internazionali della Pubblica Amministrazione ita
 liana) e l'Unità di Crisi\, che tutela i cittadini italiani all'estero.No
 ta: In caso di impegni istituzionali imprevisti\, la visita all'Unità di 
 Crisi potrebbe essere sostituita con un tour in un'altra area della Collez
 ione d'arte.\n\nRegole per l'Accesso\n\n 	È necessario presentarsi con 15
  minuti di anticipo rispetto all'orario del tour.\n 	Bisogna portare con s
 é il documento d'identità utilizzato durante la fase di prenotazione.\n 
 	Non è disponibile un servizio di guardaroba\; pertanto\, non sono ammess
 i caschi\, trolley o borse di grandi dimensioni.\n
ATTACH;FMTTYPE=image/jpeg:https://lazioeventi.com/wp-content/uploads/2025/
 10/Palazzo_della_Farnesina.webp
CATEGORIES:Arte e Cultura nel Lazio
LOCATION:Roma\, Via Leopardi\, Roma\, Roma\, Lazio\, Italia
GEO:41.8942;12.5017
X-APPLE-STRUCTURED-LOCATION;VALUE=URI;X-ADDRESS=Via Leopardi\, Roma\, Roma\
 , Lazio\, Italia;X-APPLE-RADIUS=100;X-TITLE=Roma:geo:41.8942,12.5017
END:VEVENT
BEGIN:VTIMEZONE
TZID:Europe/Rome
X-LIC-LOCATION:Europe/Rome
BEGIN:DAYLIGHT
DTSTART:20260329T030000
TZOFFSETFROM:+0100
TZOFFSETTO:+0200
TZNAME:CEST
END:DAYLIGHT
END:VTIMEZONE
END:VCALENDAR