BEGIN:VCALENDAR
VERSION:2.0
PRODID:-//wp-events-plugin.com//7.2.3.1//EN
TZID:Europe/Rome
X-WR-TIMEZONE:Europe/Rome
BEGIN:VEVENT
UID:32183@lazioeventi.com
DTSTART;TZID=Europe/Rome:20220911T100000
DTEND;TZID=Europe/Rome:20220911T190000
DTSTAMP:20220905T061528Z
URL:https://lazioeventi.com/eventi/visita-guidata-al-borgo-di-fumone-e-al-
 castello
SUMMARY:Visita guidata al borgo di Fumone e al Castello - Fumone - 11 Sette
 mbre 22 10:00
DESCRIPTION:Domenica 11 settembre 2022 imperdibile appuntamento con la visi
 ta guidata al borgo di Fumone e al Castello. Questo il programma della gio
 rnata:\n\n• MERCATINO DI ARTIGIANATO\n(dalle ore 10 alle 19)\n\n• VISI
 TE GUIDATE GRATUITE\nal borgo con ingresso al Castello compreso (solo per 
 i primi 100 prenotati) e degustazione prodotti tipici.\nPartenza dalla Pro
  loco ore 10:00 e 11:30 e ore 15:30.\nInfo e prenotazioni: Whatsapp 329777
 0903\n\n• MENÙ TIPICI NEI RISTORANTI\n\n• Ore 17:00 ALLA SCOPERTA DEL
  LAGO FANTASMA…\nLago di Canterno – Area Fitness Park – Area Playgro
 und – passeggiata lungo la CICLOPEDONALE per scoprire le origini e la st
 oria del lago.\n\nPrenotazioni escursione: 3381532558
ATTACH;FMTTYPE=image/jpeg:https://lazioeventi.com/wp-content/uploads/2022/
 09/visita_borgo_castello_fumone2022.jpg
CATEGORIES:Fiere e Mercatini nel Lazio,Arte e Cultura nel Lazio,Sport,
 Tempo Libero e Divertimento nel Lazio
LOCATION:Fumone\, Comune di Fumone\, Fumone\, Frosinone\, Lazio\, Italia
GEO:41.7278;13.2895
X-APPLE-STRUCTURED-LOCATION;VALUE=URI;X-ADDRESS=Comune di Fumone\, Fumone\,
  Frosinone\, Lazio\, Italia;X-APPLE-RADIUS=100;X-TITLE=Fumone:geo:41.7278,
 13.2895
END:VEVENT
BEGIN:VTIMEZONE
TZID:Europe/Rome
X-LIC-LOCATION:Europe/Rome
BEGIN:DAYLIGHT
DTSTART:20220327T030000
TZOFFSETFROM:+0100
TZOFFSETTO:+0200
TZNAME:CEST
END:DAYLIGHT
END:VTIMEZONE
END:VCALENDAR