BEGIN:VCALENDAR
VERSION:2.0
PRODID:-//wp-events-plugin.com//7.2.3.1//EN
TZID:Europe/Rome
X-WR-TIMEZONE:Europe/Rome
BEGIN:VEVENT
UID:37635@lazioeventi.com
DTSTART;TZID=Europe/Rome:20231104T160000
DTEND;TZID=Europe/Rome:20231104T180000
DTSTAMP:20231031T174214Z
URL:https://lazioeventi.com/eventi/visita-guidata-al-museo-nazionale-del-p
 alazzo-venezia
SUMMARY:Visita Guidata al Museo Nazionale del Palazzo Venezia - Roma - 4 No
 vembre 23 16:00
DESCRIPTION:Visita Guidata al Museo Nazionale del Palazzo Venezia\n\nInizia
 tiva Musei Gratuiti!\n\nPalazzo Venezia è la prima affermazione a Roma di
  Palazzo Rinascimentale.\n\nIniziato come propria residenza dal cardinale 
 Barbo alla metà del XV sec.\, divenne residenza papale dopo la sua elezio
 ne a Pontefice\, successivamente ingrandito con il Palazzetto fù concepit
 o come giardino aperto circondato da un portico\, diventando un’opera un
 ica nell’architettura dell’epoca.\n\nPer secoli residenza maestosa di 
 personaggi importanti e ambasciatori divenne Museo Nazionale all’inizio 
 del XX secolo. Un’occasione per ammirare opere e architetture rinascimen
 tali della tradizione italiana.\nhttps://www.romanitas.it/calendario-visit
 e-guidate/?event=3473\nSi prega di far riferimento alla Sezione Passeggian
 do nella storia https://www.romanitas.it/passeggiando-nella-storia/ per vi
 sionare il Regolamento associativo completo.\n\nINFO \nQuando: Sabato 4 N
 ovembre 2023\, h 16:00\nDurata: 2 ore circa\nAccoglienza: Piazza Venezia\n
 Tariffa: €15\,00 radio incluse\nPrenotazione almeno il giorno prima con 
 una mail a visiteguidate@romanitas.it  \noppure con un sms/WA a Cristian
 a 3315632913\nLa Prenotazione è necessaria per ricevere conferma o eventu
 ali variazioni per sapere se ci sono ancora posti.
ATTACH;FMTTYPE=image/jpeg:https://lazioeventi.com/wp-content/uploads/2023/
 10/Museo-nazionale-del-Palazzo-di-Venezia.jpg
CATEGORIES:Arte e Cultura nel Lazio
LOCATION:Roma\, Via Leopardi\, Roma\, Roma\, Lazio\, Italia
GEO:41.8942;12.5017
X-APPLE-STRUCTURED-LOCATION;VALUE=URI;X-ADDRESS=Via Leopardi\, Roma\, Roma\
 , Lazio\, Italia;X-APPLE-RADIUS=100;X-TITLE=Roma:geo:41.8942,12.5017
END:VEVENT
BEGIN:VTIMEZONE
TZID:Europe/Rome
X-LIC-LOCATION:Europe/Rome
BEGIN:STANDARD
DTSTART:20231029T020000
TZOFFSETFROM:+0200
TZOFFSETTO:+0100
TZNAME:CET
END:STANDARD
END:VTIMEZONE
END:VCALENDAR