BEGIN:VCALENDAR
VERSION:2.0
PRODID:-//wp-events-plugin.com//7.2.3.1//EN
TZID:Europe/Rome
X-WR-TIMEZONE:Europe/Rome
BEGIN:VEVENT
UID:34027@lazioeventi.com
DTSTART;TZID=Europe/Rome:20230212T103000
DTEND;TZID=Europe/Rome:20230212T120000
DTSTAMP:20230208T092759Z
URL:https://lazioeventi.com/eventi/visita-guidata-allarea-archeologica-nom
 entum
SUMMARY:Visita guidata all’Area Archeologica Nomentum - Monterotondo - 12
  Febbraio 23 10:30
DESCRIPTION:Domenica 12 Febbraio alle ore 10.30\, ci sarà una speciale vis
 ita guidata all’Area Archeologica Nomentum – Eretum\, a Monterotondo.\
 n\nL’area archeologica della via Nomentum-Eretum si trova in località T
 or Mancina (Monterotondo)\, nel terreno del CREA-Consiglio per la ricerca 
 in agricoltura e l’analisi dell’economia agraria\, all’interno della
  Riserva Naturale Macchia di Gattaceca e Macchia del Barco.\n\nQuesto sito
  è diventato una vera e propria area archeologica dal 2002\, grazie all
 ’intervento della sede Mentana-Monterotondo dell’Archeoclub d’Italia
 \, che da allora ne cura la gestione\, la manutenzione ordinaria e straord
 inaria\, la costante apertura al pubblico con visite guidate e attività d
 idattiche rivolte a scuole di ogni genere e grado\, eventi particolari.\n\
 nLa visita guidata è a cura degli archeologi dell’Associazione Archeocl
 ub d’Italia sede Mentana – Monterotondo\, è gratuita\, ed è adatta a
  grandi e piccoli.\n\nÈ necessaria la prenotazione obbligatoria inviando 
 una mail a: archeoclubmn@hotmail.com
ATTACH;FMTTYPE=image/jpeg:https://lazioeventi.com/wp-content/uploads/2023/
 02/strada-romana.jpg
CATEGORIES:Arte e Cultura nel Lazio
LOCATION:Monterotondo\, Comune di Monterotondo\, Monterotondo\, Roma\, Lazi
 o\, Italia
GEO:42.0517;12.6167
X-APPLE-STRUCTURED-LOCATION;VALUE=URI;X-ADDRESS=Comune di Monterotondo\, Mo
 nterotondo\, Roma\, Lazio\, Italia;X-APPLE-RADIUS=100;X-TITLE=Monterotondo
 :geo:42.0517,12.6167
END:VEVENT
BEGIN:VTIMEZONE
TZID:Europe/Rome
X-LIC-LOCATION:Europe/Rome
BEGIN:STANDARD
DTSTART:20221030T020000
TZOFFSETFROM:+0200
TZOFFSETTO:+0100
TZNAME:CET
END:STANDARD
END:VTIMEZONE
END:VCALENDAR