BEGIN:VCALENDAR
VERSION:2.0
PRODID:-//wp-events-plugin.com//7.2.3.1//EN
TZID:Europe/Rome
X-WR-TIMEZONE:Europe/Rome
BEGIN:VEVENT
UID:38884@lazioeventi.com
DTSTART;TZID=Europe/Rome:20240407T103000
DTEND;TZID=Europe/Rome:20240407T124500
DTSTAMP:20240403T143321Z
URL:https://lazioeventi.com/eventi/visita-guidata-castel-santangelo-il-cas
 tello-piu-famoso-di-roma-2
SUMMARY:Visita Guidata Castel Sant’Angelo il Castello più famoso di Roma
  - Roma - 7 Aprile 24 10:30
DESCRIPTION:Visita guidata Castel Sant’Angelo il Castello più famoso di 
 Roma\nIngresso GRATUITO in occasione della prima domenica del mese\nDomeni
 ca 7 Aprile 2024\, h 10:30\n“Un’enorme torta rotonda su un cubo” cos
 ì il famoso storico dell’arte Philippe Daverio ha descritto il Mausoleo
  di Adriano\, che oggi è il Castello più famoso di Roma!\n\nCastel Sant
 ’Angelo nasce come Tomba imperiale e diventa\, nel tempo\, fortezza\, pr
 igione ed in fine una splendida residenza papale\, per diventare oggi un M
 useo tra i più visitati al mondo.\n\nUna splendida occasione per conoscer
 e meglio questa meraviglia.\n\nhttps://www.romanitas.it/calendario-visite-
 guidate/?event=3221\n\nSi prega di far riferimento alla Sezione Passeggian
 do nella storia https://www.romanitas.it/passeggiando-nella-storia/ per vi
 sionare il Regolamento associativo completo.\n\nINFORMAZIONI ORARI E TARIF
 FE\nQuando: Domenica 7 Aprile 2024\, h 10:30\nDurata: 2 ore e mezza circa 
 (compreso il tempo della fila per entrare nel Museo)\nAccoglienza: 10:15 L
 ungotevere Castello (prima dell’ingresso al Museo - lato Basilica di S. 
 Pietro)\nTariffa: €15\,00 incluso radio\nPrenotazione almeno il giorno p
 rima con una mail a visiteguidate@romanitas.it\noppure con un sms/WA a Cri
 stiana 331 5632913\nLa Prenotazione è necessaria per ricevere conferma o 
 eventuali variazioni.
ATTACH;FMTTYPE=image/jpeg:https://lazioeventi.com/wp-content/uploads/2024/
 04/Angelo-di-Castello-C.jpeg
CATEGORIES:Arte e Cultura nel Lazio
LOCATION:Roma\, Via Leopardi\, Roma\, Roma\, Lazio\, Italia
GEO:41.8942;12.5017
X-APPLE-STRUCTURED-LOCATION;VALUE=URI;X-ADDRESS=Via Leopardi\, Roma\, Roma\
 , Lazio\, Italia;X-APPLE-RADIUS=100;X-TITLE=Roma:geo:41.8942,12.5017
END:VEVENT
BEGIN:VTIMEZONE
TZID:Europe/Rome
X-LIC-LOCATION:Europe/Rome
BEGIN:DAYLIGHT
DTSTART:20240331T030000
TZOFFSETFROM:+0100
TZOFFSETTO:+0200
TZNAME:CEST
END:DAYLIGHT
END:VTIMEZONE
END:VCALENDAR