BEGIN:VCALENDAR
VERSION:2.0
PRODID:-//wp-events-plugin.com//7.2.3.1//EN
TZID:Europe/Rome
X-WR-TIMEZONE:Europe/Rome
BEGIN:VEVENT
UID:30775@lazioeventi.com
DTSTART;TZID=Europe/Rome:20220508T170000
DTEND;TZID=Europe/Rome:20220508T190000
DTSTAMP:20220503T091740Z
URL:https://lazioeventi.com/eventi/visita-guidata-del-xx-rione-testaccio-e
 -del-sito-archeologico-del-monte-dei-cocci
SUMMARY:Visita guidata del XX Rione “Testaccio” e del sito archeologico
  del Monte dei “Cocci” - Roma - 8 Maggio 22 17:00
DESCRIPTION:Da Prenotare in anticipo entro Mercoledì 4 Maggio\n\nDomenica 
 8/05/22\, h 17:00\n\nTestaccio e il suo Monte\n\nVisita guidata del XX Rio
 ne “Testaccio” e del sito archeologico del Monte dei “Cocci” con a
 pertura straordinaria su appuntamento e con prenotazione anticipata. Possi
 bilità di utilizzare la MIC Card\n\n&nbsp\;\n\nIl “Monte dei Cocci”\,
  chiamato così dai romani perché formato dall’accumulo di anfore rotte
 \, è una collina artificiale che si trova nel territorio del XX Rione di 
 Roma\, a cui dà il nome! Da qui comincerà la nostra visita che ci condur
 rà a scoprire questo territorio\, che nasce nel II sec. a.C.\, come quart
 iere commerciale legato al porto dell’Emporium ed ai grandi magazzini ad
  esso connessi. Trasformato in luogo di svago e scampagnate diventerà il 
 primo quartiere “operario” della nuova capitale. Oggi quartiere freque
 ntato ancora per i suoi ristoranti “tipici” è un centro d’avanguard
 ia\, luogo di sperimentazioni artistiche e culinarie nel rispetto della tr
 adizione “romana”.\n\n&nbsp\;\n\nhttps://www.romanitas.it/testaccio-e-
 il-suo-monte-dei-cocci/\n\n&nbsp\;\n\nSi prega di far riferimento alla Sez
 ione Passeggiando nella storia https://www.romanitas.it/passeggiando-nella
 -storia/ per visionare il Regolamento associativo completo.\n\n&nbsp\;\n\n
 INFORMAZIONI ORARI E TARIFFE\n\nPrenotazione indispensabile e da effettuar
 si entro Mercoledì 4 Maggio\; il mancato raggiungimento del numero minimo
  richiesto comporterà l’annullamento della visita.\n\nQuando: Domenica 
 8 Maggio 2022 h 17:00\n\nDurata: 2 ore circa\n\nAccoglienza: ore 16:40 a V
 ia Nicola Zabaglia\, 24 (all’angolo con Via Galvani)\n\nTariffa: €12\,
 00 incluse le radio + biglietto ingresso al sito: intero €4\,00\; ridott
 o €3\,00\; gratuito con MIC Card\n\n&nbsp\;\n\nPrenotazione obbligatoria
  con una mail a visiteguidate@romanitas.it oppure con un sms/WA al 3315632
 913
ATTACH;FMTTYPE=image/jpeg:https://lazioeventi.com/wp-content/uploads/2022/
 05/Testaccio.jpg
CATEGORIES:Arte e Cultura nel Lazio
LOCATION:Roma\, Via Leopardi\, Roma\, Roma\, Lazio\, Italia
GEO:41.8942;12.5017
X-APPLE-STRUCTURED-LOCATION;VALUE=URI;X-ADDRESS=Via Leopardi\, Roma\, Roma\
 , Lazio\, Italia;X-APPLE-RADIUS=100;X-TITLE=Roma:geo:41.8942,12.5017
END:VEVENT
BEGIN:VTIMEZONE
TZID:Europe/Rome
X-LIC-LOCATION:Europe/Rome
BEGIN:DAYLIGHT
DTSTART:20220327T030000
TZOFFSETFROM:+0100
TZOFFSETTO:+0200
TZNAME:CEST
END:DAYLIGHT
END:VTIMEZONE
END:VCALENDAR