BEGIN:VCALENDAR
VERSION:2.0
PRODID:-//wp-events-plugin.com//7.2.3.1//EN
TZID:Europe/Rome
X-WR-TIMEZONE:Europe/Rome
BEGIN:VEVENT
UID:35114@lazioeventi.com
DTSTART;TZID=Europe/Rome:20230422T150000
DTEND;TZID=Europe/Rome:20230422T170000
DTSTAMP:20230419T183029Z
URL:https://lazioeventi.com/eventi/visita-guidata-il-fascino-di-san-pietro
 -e-il-mistero-delle-grotte-vaticane
SUMMARY:Visita guidata Il Fascino di San Pietro e il Mistero delle Grotte V
 aticane - Roma - 22 Aprile 23 15:00
DESCRIPTION:Visita guidata Il Fascino di San Pietro e il Mistero delle Grot
 te Vaticane\n\nVisiteremo la Basilica più grande del mondo\, simbolo dell
 a cristianità.\n\nAll’interno ci sono capolavori di tutte le epoche e d
 egli artisti più importanti.\n\nScenderemo all’interno delle Grotte dov
 e sono custodite le tombe di Papi importanti e dove potremo vedere quanto 
 resta dell’antica Basilica Costantiniana.\n\nhttps://www.romanitas.it/ca
 lendario-visite-guidate/?event=3125\n\n\nSi prega di far riferimento alla 
 Sezione Passeggiando nella storia https://www.romanitas.it/passeggiando-ne
 lla-storia/ per visionare il Regolamento associativo completo.\n\nINFO \n
 \nQuando: Sabato 22 aprile 2023\, h 15:00\n\nDurata: 2 ore e mezza circa (
 compreso il tempo per il passaggio ai tornelli)\n\nAccoglienza: Piazza San
  Pietro sotto l’Obelisco\n\nTariffa: €15\,00 radio incluse\n\nPrenotaz
 ione almeno il giorno prima con una mail a visiteguidate@romanitas.it  \
 n\noppure con un sms/WA a Cristiana 3315632913\n\nLa Prenotazione è neces
 saria per ricevere conferma o eventuali variazioni per sapere se ci sono a
 ncora posti.
ATTACH;FMTTYPE=image/jpeg:https://lazioeventi.com/wp-content/uploads/2023/
 04/sanpietro.jpeg
CATEGORIES:Arte e Cultura nel Lazio
LOCATION:Roma\, Via Leopardi\, Roma\, Roma\, Lazio\, Italia
GEO:41.8942;12.5017
X-APPLE-STRUCTURED-LOCATION;VALUE=URI;X-ADDRESS=Via Leopardi\, Roma\, Roma\
 , Lazio\, Italia;X-APPLE-RADIUS=100;X-TITLE=Roma:geo:41.8942,12.5017
END:VEVENT
BEGIN:VTIMEZONE
TZID:Europe/Rome
X-LIC-LOCATION:Europe/Rome
BEGIN:DAYLIGHT
DTSTART:20230326T030000
TZOFFSETFROM:+0100
TZOFFSETTO:+0200
TZNAME:CEST
END:DAYLIGHT
END:VTIMEZONE
END:VCALENDAR