BEGIN:VCALENDAR
VERSION:2.0
PRODID:-//wp-events-plugin.com//7.2.3.1//EN
TZID:Europe/Rome
X-WR-TIMEZONE:Europe/Rome
BEGIN:VEVENT
UID:32218@lazioeventi.com
DTSTART;TZID=Europe/Rome:20220911T180000
DTEND;TZID=Europe/Rome:20220911T200000
DTSTAMP:20220906T174119Z
URL:https://lazioeventi.com/eventi/visita-guidata-in-battello-sul-tevere-3
SUMMARY:Visita guidata in Battello sul Tevere - Roma - 11 Settembre 22 18:0
 0
DESCRIPTION:Domenica 11 Settembre 2022 h 18:00\n\nVisita guidata in Battell
 o sul Tevere\n\nStoria di Roma attraverso il suo “fiume”\n\nLa gita in
  battello è l’occasione di visitare Roma da un punto di vista diverso e
  originale. Un’occasione per scoprire scorci di rara bellezza e itinerar
 i inconsueti.\n\nIl fiume è stato sempre l’anima di Roma ed ha svolto u
 n ruolo fondamentale nella sua storia.\n\nhttps://www.romanitas.it/in-batt
 ello-sul-tevere/\n\nSi prega di far riferimento alla Sezione Passeggiando 
 nella storia https://www.romanitas.it/passeggiando-nella-storia/ per visio
 nare il Regolamento associativo completo.\n\nINFO\n\nQuando: Domenica 11 S
 ettembre 2022 h 18:00\n\nDurata: 2 ore circa\n\nAccoglienza: dalle 17:30 I
 sola Tiberina all’imbarcadero del battello\n\nE’ raccomandata la massi
 ma puntualità\n\nTariffa: €22\,00 tutto incluso\n\nPrenotazione almeno 
 il giorno prima con una mail a visitegidate@romanitas.it\n\noppure con un 
 sms/WA a Cristiana 3315632913\n\nLa Prenotazione è necessaria per ricever
 e conferma o eventuali variazioni per sapere se ci sono ancora posti.
ATTACH;FMTTYPE=image/jpeg:https://lazioeventi.com/wp-content/uploads/2022/
 09/battello5.jpg
CATEGORIES:Arte e Cultura nel Lazio
LOCATION:Roma\, Via Leopardi\, Roma\, Roma\, Lazio\, Italia
GEO:41.8942;12.5017
X-APPLE-STRUCTURED-LOCATION;VALUE=URI;X-ADDRESS=Via Leopardi\, Roma\, Roma\
 , Lazio\, Italia;X-APPLE-RADIUS=100;X-TITLE=Roma:geo:41.8942,12.5017
END:VEVENT
BEGIN:VTIMEZONE
TZID:Europe/Rome
X-LIC-LOCATION:Europe/Rome
BEGIN:DAYLIGHT
DTSTART:20220327T030000
TZOFFSETFROM:+0100
TZOFFSETTO:+0200
TZNAME:CEST
END:DAYLIGHT
END:VTIMEZONE
END:VCALENDAR