BEGIN:VCALENDAR
VERSION:2.0
PRODID:-//wp-events-plugin.com//7.2.3.1//EN
TZID:Europe/Rome
X-WR-TIMEZONE:Europe/Rome
BEGIN:VEVENT
UID:35126@lazioeventi.com
DTSTART;TZID=Europe/Rome:20230424T160000
DTEND;TZID=Europe/Rome:20230424T180000
DTSTAMP:20230420T140512Z
URL:https://lazioeventi.com/eventi/visita-guidata-labbazia-delle-tre-fonta
 ne-e-i-monaci-trappisti
SUMMARY:Visita guidata L’Abbazia delle Tre Fontane e i Monaci Trappisti -
  Roma - 24 Aprile 23 16:00
DESCRIPTION:Visita guidata L’Abbazia delle Tre Fontane e i Monaci Trappis
 ti\n\nAttraverso l’Arco di Carlo Magno si accede ad un borgo medievale\n
 \nEntreremo in un borgo medievale e ci sentiremo trasportati in un’altra
  epoca\; faremo un vero e proprio viaggio nel tempo\, la storia ci porter
 à a scoprire questo angolo di pace\, unico nel suo genere e pieno fascino
 .\nTermineremo la visita nello spaccio monastico con la vendita diretta de
 i prodotti trappisti tutti naturali e fatti dai monaci\, rinomata la ciocc
 olata e il digestivo all’Eucalipto\, ed ora anche la birra artigianale\,
  grazie al ritrovamento dell’antica ricetta dei monaci francesi\, è sta
 to possibile produrre la prima birra Trappista Italiana.\n\nhttps://www.ro
 manitas.it/calendario-visite-guidate/?event=3098\n\n\nSi prega di far rife
 rimento alla Sezione Passeggiando nella storia https://www.romanitas.it/pa
 sseggiando-nella-storia/ per visionare il Regolamento associativo completo
 .\n\nINFORMAZIONI ORARI E TARIFFE\n\nQuando: Lunedì 24 Aprile 2023\, h 16
 :00\n\nDurata: 2 ore circa\n\nAccoglienza: Via delle Acque Salvie\, 1\n\nT
 ariffa: €12\,00 incluso radio\n\nPrenotazione almeno il giorno prima con
  una mail a visiteguidate@romanitas.it \n\noppure con un sms/WA a Cristia
 na 3315632913\n\nLa Prenotazione è necessaria per ricevere conferma o eve
 ntuali variazioni.
ATTACH;FMTTYPE=image/jpeg:https://lazioeventi.com/wp-content/uploads/2023/
 04/3-fon-arco.jpg
CATEGORIES:Arte e Cultura nel Lazio
LOCATION:Roma\, Via Leopardi\, Roma\, Roma\, Lazio\, Italia
GEO:41.8942;12.5017
X-APPLE-STRUCTURED-LOCATION;VALUE=URI;X-ADDRESS=Via Leopardi\, Roma\, Roma\
 , Lazio\, Italia;X-APPLE-RADIUS=100;X-TITLE=Roma:geo:41.8942,12.5017
END:VEVENT
BEGIN:VTIMEZONE
TZID:Europe/Rome
X-LIC-LOCATION:Europe/Rome
BEGIN:DAYLIGHT
DTSTART:20230326T030000
TZOFFSETFROM:+0100
TZOFFSETTO:+0200
TZNAME:CEST
END:DAYLIGHT
END:VTIMEZONE
END:VCALENDAR