BEGIN:VCALENDAR
VERSION:2.0
PRODID:-//wp-events-plugin.com//7.2.3.1//EN
TZID:Europe/Rome
X-WR-TIMEZONE:Europe/Rome
BEGIN:VEVENT
UID:35116@lazioeventi.com
DTSTART;TZID=Europe/Rome:20230423T120000
DTEND;TZID=Europe/Rome:20230423T140000
DTSTAMP:20230419T182927Z
URL:https://lazioeventi.com/eventi/visita-guidata-roma-regina-aquarum-la-c
 itta-dellacqua
SUMMARY:Visita guidata - Roma Regina Aquarum: La città dell’Acqua - Roma
  - 23 Aprile 23 12:00
DESCRIPTION:Visita Guidata - Roma Regina Aquarum: La città dell’Acqua\n\
 nScenderemo per oltre 9 metri per raggiungere un’area archeologica che s
 i estende a pochi metri dalla Fontana di Trevi.\n\nCamminando tra una Domu
 s tardo imperiale e una casa medievale visiteremo il Castellum Aquae dell'
 Acquedotto Vergine e scopriremo perché Roma diventerà la Regina dell’A
 cqua per poter poi ammirare la più bella fontana del mondo.\n\nhttps://ww
 w.romanitas.it/calendario-visite-guidate/?event=2917\n\nSi prega di far ri
 ferimento alla Sezione Passeggiando nella storia https://www.romanitas.it/
 passeggiando-nella-storia/ per visionare il Regolamento associativo comple
 to.\n\nINFORMAZIONI ORARI E TARIFFE\n\nQuando: Domenica 23 Aprile 2023 h. 
 12:00\n\nDurata: 2 ore circa\n\nAccoglienza: Vicolo dei Modelli angolo Vic
 olo del Puttarello\n\nTariffa: €15\,00 incluso radio + €4\,00 bigliett
 o d’ingresso\n\nPrenotazione almeno il giorno prima con una mail a visit
 eguidate@romanitas.it\n\noppure con un sms/WA a Cristiana 3315632913\n\nLa
  Prenotazione è necessaria per ricevere conferma o eventuali variazioni p
 er sapere se ci sono ancora posti.
ATTACH;FMTTYPE=image/jpeg:https://lazioeventi.com/wp-content/uploads/2023/
 04/VicCap-1-1.jpg
CATEGORIES:Arte e Cultura nel Lazio
LOCATION:Roma\, Via Leopardi\, Roma\, Roma\, Lazio\, Italia
GEO:41.8942;12.5017
X-APPLE-STRUCTURED-LOCATION;VALUE=URI;X-ADDRESS=Via Leopardi\, Roma\, Roma\
 , Lazio\, Italia;X-APPLE-RADIUS=100;X-TITLE=Roma:geo:41.8942,12.5017
END:VEVENT
BEGIN:VTIMEZONE
TZID:Europe/Rome
X-LIC-LOCATION:Europe/Rome
BEGIN:DAYLIGHT
DTSTART:20230326T030000
TZOFFSETFROM:+0100
TZOFFSETTO:+0200
TZNAME:CEST
END:DAYLIGHT
END:VTIMEZONE
END:VCALENDAR