BEGIN:VCALENDAR
VERSION:2.0
PRODID:-//wp-events-plugin.com//7.2.3.1//EN
TZID:Europe/Rome
X-WR-TIMEZONE:Europe/Rome
BEGIN:VEVENT
UID:40434@lazioeventi.com
DTSTART;TZID=Europe/Rome:20241214T153000
DTEND;TZID=Europe/Rome:20241214T173000
DTSTAMP:20241211T091843Z
URL:https://lazioeventi.com/eventi/visita-guidata-san-clemente-e-la-magia-
 dei-suoi-sotterranei
SUMMARY:Visita guidata San Clemente e la magia dei suoi sotterranei - Roma 
 - 14 Dicembre 24 15:30
DESCRIPTION:Visita guidata San Clemente e la magia dei suoi sotterranei\n\n
 Un viaggio a ritroso nel tempo\n\nUna basilica antichissima che risale al 
 IV secolo costruita sopra edifici più antichi\, un esempio estremamente c
 hiaro di come Roma sia rinata dalle sue ceneri. Scendendo per tre livelli 
 avremo modo di arrivare fino al I sec. per scoprire un antico quartiere ed
  un tempio pagano.\n\nhttps://visiteguidateroma.com/all-events/?event=2764
 \n\nINFORMAZIONI ORARI E TARIFFE\n\nSabato 14 Dicembre 2024\, h 15:30\n\nD
 urata: 2 ore circa\n\nAccoglienza: Piazza San Clemente\n\nTariffa: € 15\
 ,00 incluso auricolari + biglietto ingresso agli scavi €10\,00\n\nPrenot
 azione obbligatoria entro Venerdì 13 Dicembre con una mail a visiteguidat
 eroma@romanitas.it  oppure con un sms/WA a Cristiana 3315632913.\n\nSe no
 n verrà raggiunto il numero minimo di 8 iscritti entro le 24 ore preceden
 ti la visita\, questa sarà annullata. Chi si è già iscritto riceverà c
 omunicazione con un messaggio\, per questo è necessario fornire un recapi
 to telefonico.
ATTACH;FMTTYPE=image/jpeg:https://lazioeventi.com/wp-content/uploads/2024/
 12/high_resolution_.jpg
CATEGORIES:Arte e Cultura nel Lazio
LOCATION:Roma\, Via Leopardi\, Roma\, Roma\, Lazio\, Italia
GEO:41.8942;12.5017
X-APPLE-STRUCTURED-LOCATION;VALUE=URI;X-ADDRESS=Via Leopardi\, Roma\, Roma\
 , Lazio\, Italia;X-APPLE-RADIUS=100;X-TITLE=Roma:geo:41.8942,12.5017
END:VEVENT
BEGIN:VTIMEZONE
TZID:Europe/Rome
X-LIC-LOCATION:Europe/Rome
BEGIN:STANDARD
DTSTART:20241027T020000
TZOFFSETFROM:+0200
TZOFFSETTO:+0100
TZNAME:CET
END:STANDARD
END:VTIMEZONE
END:VCALENDAR