BEGIN:VCALENDAR
VERSION:2.0
PRODID:-//wp-events-plugin.com//7.2.3.1//EN
TZID:Europe/Rome
X-WR-TIMEZONE:Europe/Rome
BEGIN:VEVENT
UID:32297@lazioeventi.com
DTSTART;TZID=Europe/Rome:20220912T180000
DTEND;TZID=Europe/Rome:20220918T194500
DTSTAMP:20220912T143605Z
URL:https://lazioeventi.com/eventi/visita-guidata-san-pietro-3d-con-tramon
 to-al-castello-2
SUMMARY:Visita guidata San Pietro 3D con tramonto al Castello - Roma - 12 S
 ettembre 22 18:00
DESCRIPTION:Visita guidata San Pietro 3D con tramonto al Castello\n\nPasseg
 giata guidata ed immersiva\n\nVisitare Roma senza una visita alla Città d
 el Vaticano equivale come a  leggere un libro senza conoscerne il titolo\
 , pur essendo il più piccolo Stato del mondo riserva ai visitatori sorpre
 se e tesori inestimabili. Luogo di culto la Basilica di San Pietro è una 
 tappa irrinunciabile per chi ama la storia\, Romanitas APS è lieta di pre
 sentarli al pubblico con una tecnologia innovativa quella del visore 3D 
 “passeggiata tutta in esterno”.\n\nSi prega di far riferimento alla Se
 zione Passeggiando nella storia https://www.romanitas.it/passeggiando-nell
 a-storia/ per visionare il Regolamento associativo completo.\n\nINFORMAZIO
 NI ORARI E TARIFFE\n\nQuando: Domenica 18 settembre 2022 h 18:00\n\nDurata
 : 1 ora e mezza circa\n\nAccoglienza: dalle 17:30 a Piazza del Sant’Uffi
 zio\, 1\n\nTariffa: €22\,00 adulti visori e radio incluse\; €15\,00 ba
 mbini tra i 7 e i 12 anni visori e radio incluse\n\nPrenotazione almeno il
  giorno prima con una mail a visiteguidate@romanitas.it\n\noppure con un s
 ms/WA a Cristiana 3315632913\n\nLa Prenotazione è necessaria per ricevere
  conferma o eventuali variazioni per sapere se ci sono ancora posti.
ATTACH;FMTTYPE=image/jpeg:https://lazioeventi.com/wp-content/uploads/2022/
 09/acea-illuminazione-castel-santangelo-768x480-1.jpg
CATEGORIES:Arte e Cultura nel Lazio
LOCATION:Roma\, Via Leopardi\, Roma\, Roma\, Lazio\, Italia
GEO:41.8942;12.5017
X-APPLE-STRUCTURED-LOCATION;VALUE=URI;X-ADDRESS=Via Leopardi\, Roma\, Roma\
 , Lazio\, Italia;X-APPLE-RADIUS=100;X-TITLE=Roma:geo:41.8942,12.5017
END:VEVENT
BEGIN:VTIMEZONE
TZID:Europe/Rome
X-LIC-LOCATION:Europe/Rome
BEGIN:DAYLIGHT
DTSTART:20220327T030000
TZOFFSETFROM:+0100
TZOFFSETTO:+0200
TZNAME:CEST
END:DAYLIGHT
END:VTIMEZONE
END:VCALENDAR