BEGIN:VCALENDAR
VERSION:2.0
PRODID:-//wp-events-plugin.com//7.2.3.1//EN
TZID:Europe/Rome
X-WR-TIMEZONE:Europe/Rome
BEGIN:VEVENT
UID:28369@lazioeventi.com
DTSTART;TZID=Europe/Rome:20210709T204500
DTEND;TZID=Europe/Rome:20210709T221500
DTSTAMP:20210702T132029Z
URL:https://lazioeventi.com/eventi/visita-guidata-sulle-tracce-di-iside
SUMMARY:Visita Guidata\, SULLE TRACCE DI ISIDE - Roma - 9 Luglio 21 20:45
DESCRIPTION:Visita Guidata – SULLE TRACCE DI ISIDE\,\n**Una passeggiata s
 erale tra le piazze più belle del centro storico alla scoperta dei resti 
 nascosti dell'Iseo Campense**\nVenerdi' 9 Luglio Ore 20.45\n\nLa zona del 
 centro storico compresa tra Piazza Venezia e Largo Argentina è nota per i
  suoi monumenti più famosi\, ma non tutti sanno che nel gomitolo di strad
 e che avvolge il Pantheon si nascondono le tracce di un edificio non più 
 visibile\, eppure importantissimo nella vita degli antichi romani: l'Iseo 
 Campense\, grandioso santuario dedicato alla divinità egizia Iside\, real
 izzato dall'imperatore Caligola nel 40 d.C. e ulteriormente abbellito da D
 omiziano con stupende decorazioni in marmo e granito.\nOggi è possibile r
 icostruirne l'aspetto attraverso reperti evidenti come l' Obelisco della M
 inerva e l'elegante Obelisco della Rotonda\, ma anche grazie ad altre test
 imonianze in pietra\, come il leggendario “Pié di Marmo” e la “Mada
 ma Lucrezia” che\, a un occhio meno attento\, passano inosservate perch
 é “mimetizzate” con gli edifici di epoca moderna.\nLa storia nascosta
  di questi luoghi e il grande successo che il culto di Iside ebbe tra gli 
 abitanti della città\, ci mostra un'immagine della Roma imperiale aperta 
 alle religioni orientali ed estremamente cosmopolita.\n\nLa visita sarà t
 enuta dalla dott.ssa Emanuela Sarracino\, Archeologa e Guida Turistica\n\n
 Nel rispetto e a tutela della salute dei partecipanti\, le visite guidate 
 si svolgeranno con i parametri di sicurezza anti-Covid individuati dalla n
 ormativa vigente.\n\nAppuntamento: ore 20.30 alla base della scalinata del
  Campidoglio\nCosto della visita: 10 € (include il noleggio auricolari s
 anificati)\n\nATTENZIONE\, POSTI LIMITATI!\nPRENOTAZIONE OBBLIGATORIA\nCEL
 L. +39 328.8071534 emanuela.sarracino@gmail.com
ATTACH;FMTTYPE=image/jpeg:https://lazioeventi.com/wp-content/uploads/2021/
 07/Leone.jpg
CATEGORIES:Arte e Cultura nel Lazio
LOCATION:Roma\, Via Leopardi\, Roma\, Roma\, Lazio\, Italia
GEO:41.8942;12.5017
X-APPLE-STRUCTURED-LOCATION;VALUE=URI;X-ADDRESS=Via Leopardi\, Roma\, Roma\
 , Lazio\, Italia;X-APPLE-RADIUS=100;X-TITLE=Roma:geo:41.8942,12.5017
END:VEVENT
BEGIN:VTIMEZONE
TZID:Europe/Rome
X-LIC-LOCATION:Europe/Rome
BEGIN:DAYLIGHT
DTSTART:20210328T030000
TZOFFSETFROM:+0100
TZOFFSETTO:+0200
TZNAME:CEST
END:DAYLIGHT
END:VTIMEZONE
END:VCALENDAR