BEGIN:VCALENDAR
VERSION:2.0
PRODID:-//wp-events-plugin.com//7.2.3.1//EN
TZID:Europe/Rome
X-WR-TIMEZONE:Europe/Rome
BEGIN:VEVENT
UID:32675@lazioeventi.com
DTSTART;TZID=Europe/Rome:20221015T180000
DTEND;TZID=Europe/Rome:20221015T190000
DTSTAMP:20221013T143857Z
URL:https://lazioeventi.com/eventi/visita-il-parco-archeologico-di-fregell
 ae
SUMMARY:Visita il Parco Archeologico di Fregellae - Arce - 15 Ottobre 22 18
 :00
DESCRIPTION:Il Parco Archeologico di Fregellae. \n\nL’interesse della cit
 tà di Fregellae\, antica colonia fondata dai Romani nel 328 a.C.\, è dim
 ostrato dall’importanza storica che la città ricopriva in antico: essa 
 rappresentava infatti uno dei più notevoli centri del mondo romano in epo
 ca repubblicana\, costituendo una delle principali colonie latine. \n\nIl 
 biglietto d'ingresso al Parco sarà eccezionalmente di 2 euro a testa e ch
 e ci saranno due turni di visita: alle ore 18:00 e alle ore 19:00. \n\nLa 
 serata continuerà presso il vicino centro di Isoletta di Arce dove sarà 
 possibile degustare i cibi della tradizione ciociara assieme a ottimo vino
  locale.
ATTACH;FMTTYPE=image/jpeg:https://lazioeventi.com/wp-content/uploads/2022/
 10/fregellae-arce.jpg
CATEGORIES:Arte e Cultura nel Lazio
LOCATION:Arce\, Comune\, Arce\, Frosinone\, Lazio\, Italia
GEO:41.5881;13.5725
X-APPLE-STRUCTURED-LOCATION;VALUE=URI;X-ADDRESS=Comune\, Arce\, Frosinone\,
  Lazio\, Italia;X-APPLE-RADIUS=100;X-TITLE=Arce:geo:41.5881,13.5725
END:VEVENT
BEGIN:VTIMEZONE
TZID:Europe/Rome
X-LIC-LOCATION:Europe/Rome
BEGIN:DAYLIGHT
DTSTART:20220327T030000
TZOFFSETFROM:+0100
TZOFFSETTO:+0200
TZNAME:CEST
END:DAYLIGHT
END:VTIMEZONE
END:VCALENDAR