BEGIN:VCALENDAR
VERSION:2.0
PRODID:-//wp-events-plugin.com//7.2.3.1//EN
TZID:Europe/Rome
X-WR-TIMEZONE:Europe/Rome
BEGIN:VEVENT
UID:34675@lazioeventi.com
DTSTART;TZID=Europe/Rome:20230325T100000
DTEND;TZID=Europe/Rome:20230326T150000
DTSTAMP:20230317T160528Z
URL:https://lazioeventi.com/eventi/visita-weekend-di-marzo-coffe-break-202
 3-03-25
SUMMARY:Visita weekend di marzo + coffe break - Monte Porzio Catone - 25 Ma
 rzo 23 10:00
DESCRIPTION:Villa Mondragone vi aspetta ogni sabato e domenica di marzo per
  un tour guidato dell'originario Casino degli Altemps e offrire un caffè 
 ai visitatori che vorranno raggiungere lo scenografico teatrogiardino dell
 a Villa dei Borghese.\n\nOrari del tour: 10.00/12.00/15.00\n\nPrenotazione
  tramite email: info@villamondragone.it\n\nPer informazioni: 06.9401941\n\
 nCosto del biglietto: 12\,00€ (ingresso + visita guidata + caffè). È p
 ossibile effettuare il pagamento del biglietto direttamente in Villa trami
 te pos o online tramite bonifico bancario.\n\nL'entrata è consentita da V
 ia Mondragone\, 4 (strada situata di fronte al parco dell'Ombrellino\, nel
  comune di Frascati).\n\n&nbsp\;
ATTACH;FMTTYPE=image/jpeg:https://lazioeventi.com/wp-content/uploads/2023/
 03/LOCANDINA-VILLA-MONDRAGONE.jpg
CATEGORIES:Arte e Cultura nel Lazio
LOCATION:Monte Porzio Catone\, Comune\, Monte Porzio Catone\, Roma\, Lazio\
 , Italia
GEO:41.8156;12.7166
X-APPLE-STRUCTURED-LOCATION;VALUE=URI;X-ADDRESS=Comune\, Monte Porzio Caton
 e\, Roma\, Lazio\, Italia;X-APPLE-RADIUS=100;X-TITLE=Monte Porzio Catone:g
 eo:41.8156,12.7166
END:VEVENT
BEGIN:VTIMEZONE
TZID:Europe/Rome
X-LIC-LOCATION:Europe/Rome
BEGIN:STANDARD
DTSTART:20221030T020000
TZOFFSETFROM:+0200
TZOFFSETTO:+0100
TZNAME:CET
END:STANDARD
BEGIN:DAYLIGHT
DTSTART:20230326T030000
TZOFFSETFROM:+0100
TZOFFSETTO:+0200
TZNAME:CEST
END:DAYLIGHT
END:VTIMEZONE
END:VCALENDAR