BEGIN:VCALENDAR
VERSION:2.0
PRODID:-//wp-events-plugin.com//7.2.3.1//EN
TZID:Europe/Rome
X-WR-TIMEZONE:Europe/Rome
BEGIN:VEVENT
UID:30829@lazioeventi.com
DTSTART;TZID=Europe/Rome:20220508T153000
DTEND;TZID=Europe/Rome:20220508T163000
DTSTAMP:20220506T081101Z
URL:https://lazioeventi.com/eventi/visite-guidate-a-rieti
SUMMARY:Visite Guidate a Rieti - Rieti - 8 Maggio 22 15:30
DESCRIPTION:Domenica 8 maggio\, oltre alla consueta apertura dell’ufficio
  turistico di Piazza Vittorio Emanuele II a disposizione di tutti i turist
 i che arriveranno a Rieti\, VisitRieti e Asm Tour Operator organizzano ape
 rture e visite del Teatro Flavio Vespasiano e della Residenza storica di P
 alazzo Colelli.\n\nIl Teatro Flavio Vespasiano sarà aperto dalle 15 alle 
 17 con visita guidata dalle 15.30 alle 16.30 su prenotazione presso l’uf
 ficio VisitRieti.\n\nSarà organizzata anche una visita guidata alle 15.30
  alla Residenza storica Palazzo Colelli\, dove vissero Giuseppe e Anita Ga
 ribaldi\, anche in questo caso con prenotazione presso l’ufficio turisti
 co VisitRieti.\n\nPrenotazioni anche al numero telefonico 366 8249734
ATTACH;FMTTYPE=image/jpeg:https://lazioeventi.com/wp-content/uploads/2019/
 01/Teatro-F.-Vespasiano-001.jpg
CATEGORIES:Arte e Cultura nel Lazio
LOCATION:Rieti\, Comune di Rieti\, Rieti\, Rieti\, Lazio\, Italia
GEO:42.403;12.8609
X-APPLE-STRUCTURED-LOCATION;VALUE=URI;X-ADDRESS=Comune di Rieti\, Rieti\, R
 ieti\, Lazio\, Italia;X-APPLE-RADIUS=100;X-TITLE=Rieti:geo:42.403,12.8609
END:VEVENT
BEGIN:VTIMEZONE
TZID:Europe/Rome
X-LIC-LOCATION:Europe/Rome
BEGIN:DAYLIGHT
DTSTART:20220327T030000
TZOFFSETFROM:+0100
TZOFFSETTO:+0200
TZNAME:CEST
END:DAYLIGHT
END:VTIMEZONE
END:VCALENDAR