BEGIN:VCALENDAR
VERSION:2.0
PRODID:-//wp-events-plugin.com//7.2.3.1//EN
TZID:Europe/Rome
X-WR-TIMEZONE:Europe/Rome
BEGIN:VEVENT
UID:33234@lazioeventi.com
DTSTART;TZID=Europe/Rome:20221227T100000
DTEND;TZID=Europe/Rome:20230108T120000
DTSTAMP:20221214T090306Z
URL:https://lazioeventi.com/eventi/visite-guidate-a-tarquinia
SUMMARY:Visite guidate a Tarquinia - Tarquinia - 27 Dicembre 22 10:00
DESCRIPTION:La magia del Natale arriva a Tarquinia e la guida turistica Cla
 udia Moroni accompagnerà i visitatori alla scoperta degli artisti tarquin
 iesi contemporanei\, dell’arte etrusca e degli angoli più suggestivi de
 l centro storico seguendo l’itinerario del presepe vivente. \n\nDal 27 d
 icembre all’8 gennaio\, ogni mattina alle 10\, sarà possibile partecipa
 re alle visite guidate per ammirare le tombe dipinte della necropoli etrus
 ca dei Monterozzi\, dichiarata nel 2004 patrimonio mondiale dell’umanit
 à\, e i capolavori del Museo Archeologico Nazionale di Tarquinia\, tra cu
 i capolavori come l'altorilievo dei Cavalli Alati e il gruppo scultoreo de
 l Dio Mitra. “È una visita guidata combinata – spiega la guida turist
 ica Claudia Moroni -. \nSi possono visitare insieme la necropoli e il muse
 o o scegliere se l’una o l’altro. In ogni caso non si rimarrà delusi 
 dalla bellezza dell’arte etrusca”. \n\n"Aspettando il presepe vivente
 ”\, il 2 il 6 gennaio\, alle 15\, è la visita guidata che accompagnerà
  il visitatore da piazza Cavour alla scoperta del centro storico per poi f
 arlo immergere nel borgo medievale della chiesa di Santa Maria in Castello
 \, reso ancora più suggestivo dalle scenografie della rievocazione. Ritor
 nerà “Incontri con gli artisti”\, il ciclo di appuntamenti che porter
 à le persone a conoscere direttamente scultori e pittori tarquiniesi cont
 emporanei che\, con il loro lavoro\, si sono affermati in ambito italiano 
 e internazionale. “Incontreremo lo scultore Claudio Capotondi e il pitto
 re Guido Sileoni – conclude la guidato turistica Claudia Moroni – Con 
 Claudio Capotondi seguiremo il filo conduttore della scultura e la visita 
 guidata si comporrà di due momenti: il primo al Museo Nazionale Archeolog
 ico di Tarquinia\, per ammirare l’arte etrusca\; il secondo dopo un brev
 e trasferimento in auto\, alla zona artigianale\, nel laboratorio di Capot
 ondi. \nCon Guido Sileoni cammineremo sulla strada dell'arte figurativa: v
 isiteremo le tombe dipinte della necropoli dei Monterozzi per poi prosegui
 re nello studio dell'artista\, che ha sviluppato una tecnica personalissim
 a\, con risultati di grande impatto ed eleganza formale\, i cui contenuti 
 sono influenzati in particolar modo da quella etrusca. Le date delle due v
 isite devono essere ancora definite”. \n\nPer tutte le informazioni è p
 ossibile chiamare al 347 6920574 o scrivere a claumor@hotmail.it.\n
ATTACH;FMTTYPE=image/jpeg:https://lazioeventi.com/wp-content/uploads/2021/
 10/tarquinia.jpg
CATEGORIES:Arte e Cultura nel Lazio
LOCATION:Tarquinia\, Comune\, Tarquinia\, Viterbo\, Lazio\, Italia
GEO:42.2546;11.7584
X-APPLE-STRUCTURED-LOCATION;VALUE=URI;X-ADDRESS=Comune\, Tarquinia\, Viterb
 o\, Lazio\, Italia;X-APPLE-RADIUS=100;X-TITLE=Tarquinia:geo:42.2546,11.758
 4
END:VEVENT
BEGIN:VTIMEZONE
TZID:Europe/Rome
X-LIC-LOCATION:Europe/Rome
BEGIN:STANDARD
DTSTART:20221030T020000
TZOFFSETFROM:+0200
TZOFFSETTO:+0100
TZNAME:CET
END:STANDARD
END:VTIMEZONE
END:VCALENDAR