BEGIN:VCALENDAR
VERSION:2.0
PRODID:-//wp-events-plugin.com//7.2.3.1//EN
TZID:Europe/Rome
X-WR-TIMEZONE:Europe/Rome
BEGIN:VEVENT
UID:44271@lazioeventi.com
DTSTART;TZID=Europe/Rome:20260425T103000
DTEND;TZID=Europe/Rome:20261220T163000
DTSTAMP:20260421T071213Z
URL:https://lazioeventi.com/eventi/visite-guidate-alla-certosa-di-trisulti
SUMMARY:Visite guidate alla Certosa di Trisulti - Collepardo - 25 Aprile 26
  10:30
DESCRIPTION:La Certosa di Trisulti\, gioiello incastonato tra le foreste de
 i Monti Ernici\, apre le sue porte ai visitatori con un programma di visit
 e guidate completamente gratuite. L’iniziativa\, promossa dalla Direzion
 e Regionale Musei Nazionali Lazio e dalla Regione Lazio in collaborazione 
 con Lazio Crea e l’Associazione Sinus Formianus\, mira a valorizzare uno
  dei complessi monastici più suggestivi e ricchi di storia del centro Ita
 lia.\n\nAccompagnati da guide turistiche abilitate\, i visitatori potranno
  immergersi in un viaggio nel tempo lungo mille anni: dalla celebre Farmac
 ia settecentesca\, con i suoi vasi di maiolica e gli affreschi trompe-l'œ
 il\, alla Chiesa di San Bartolomeo\, fino agli splendidi giardini all'ital
 iana curati a arte topiaria.\n\nIl servizio di visite guidate\, attivo nei
  weekend e nei giorni festivi\, è pensato per rendere accessibile a tutti
  la bellezza e la spiritualità di questo luogo magico\, offrendo approfon
 dimenti storici\, artistici e botanici. Un'occasione imperdibile per turis
 ti e cittadini per riscoprire il patrimonio culturale del territorio cioci
 aro in modo consapevole e gratuito.\n\nPROGRAMMA E ORARI DELLE VISITE\nPer
 iodo Estivo (In corso: dal 15 aprile al 15 ottobre)\nLe visite si effettua
 no il sabato\, la domenica e i giorni festivi.\nMattina: ore 10:30 – 11:
 30\nPomeriggio: ore 15:30 – 16:30\n\nPeriodo Invernale (dal 16 ottobre a
 l 14 aprile)\nLe visite si effettuano il sabato\, la domenica e i giorni f
 estivi.\nMattina: ore 10:30 – 11:30\nPomeriggio: ore 14:30 – 15:00\n\n
 INFORMAZIONI E PRENOTAZIONI\nPer garantire una migliore fruizione del perc
 orso e la disponibilità delle guide\, la prenotazione è caldamente consi
 gliata.\n\nPartner e Patrocini\nL'evento è reso possibile grazie al Minis
 tero della Cultura (MIC)\, Direzione Generale Musei\, Regione Lazio\, Lazi
 o Crea e l'Associazione di Promozione Sociale Sinus Formianus.\nPrenotate 
 il vostro posto: prenotazionicertosatrisulti@laziocrea.it o chiamare il 07
 75 47024.\n\nUn'iniziativa promossa da Direzione Regionale Musei Nazionali
  Lazio\, Regione Lazio\, LazioCrea e Sinus Formianus APS.
ATTACH;FMTTYPE=image/jpeg:https://lazioeventi.com/wp-content/uploads/2026/
 04/visite-trisulti.jpg
CATEGORIES:Arte e Cultura nel Lazio
LOCATION:Collepardo\, Comune di Collepardo\, Collepardo\, Frosinone\, Lazio
 \, Italia
GEO:41.7612;13.3676
X-APPLE-STRUCTURED-LOCATION;VALUE=URI;X-ADDRESS=Comune di Collepardo\, Coll
 epardo\, Frosinone\, Lazio\, Italia;X-APPLE-RADIUS=100;X-TITLE=Collepardo:
 geo:41.7612,13.3676
END:VEVENT
BEGIN:VTIMEZONE
TZID:Europe/Rome
X-LIC-LOCATION:Europe/Rome
BEGIN:DAYLIGHT
DTSTART:20260329T030000
TZOFFSETFROM:+0100
TZOFFSETTO:+0200
TZNAME:CEST
END:DAYLIGHT
BEGIN:STANDARD
DTSTART:20261025T020000
TZOFFSETFROM:+0200
TZOFFSETTO:+0100
TZNAME:CET
END:STANDARD
END:VTIMEZONE
END:VCALENDAR