BEGIN:VCALENDAR
VERSION:2.0
PRODID:-//wp-events-plugin.com//7.2.3.1//EN
TZID:Europe/Rome
X-WR-TIMEZONE:Europe/Rome
BEGIN:VEVENT
UID:38577@lazioeventi.com
DTSTART;TZID=Europe/Rome:20240304T120000
DTEND;TZID=Europe/Rome:20240318T190000
DTSTAMP:20240221T171437Z
URL:https://lazioeventi.com/eventi/vista-mare-la-personale-di-elvira-salon
 ia-a-roma
SUMMARY:Vista Mare la personale di Elvira Salonia a Roma - Roma - 4 Marzo 2
 4 12:00
DESCRIPTION:Inaugura il prossimo 4 Marzo\, e sarà visitabile fino al 18 ma
 rzo 2024\, presso la Galleria dei Miracoli (via del Corso 528) a Roma la p
 rima mostra personale della pittrice ragusana Elvira Salonia\, curata da A
 riadne Caccavale.\n\nL’artista\, docente di Estetica presso l’Accademi
 a di Belle Arti della sua città natale\, presenta un repertorio pittorico
  ispirato alla natura e in particolare al mare\, che raggiunge risultati d
 ai tocchi vibranti e poetici.\n\nSedotta dal fascino del mare\, principale
  musa ispiratrice\, Salonia cerca di cogliere su tela ogni vibrazione\, at
 tratta da quella linea d’orizzonte che demarca l’acqua dal cielo. Con 
 un tratto piatto genera composizioni che riflettono una antica tradizione 
 figurativa\, ancorata al dato realistico.\n\nDice di lei la curatrice dell
 a mostra: «Tutto è stasi: tra ambientazioni differenziate\, il colore pr
 opaga la luce sull’intera superficie a disposizione\, con variazioni che
  danno vita ad un chiarore rasserenante\, sia nel caso di un’alba dalle 
 dita rosate che di un tramonto riflesso su una distesa marina scanalata\, 
 come la colonna di un tempio classico. La centralità dell’elemento mari
 no si ricollega anche a metafore e simbolismi evocanti il segreto profondo
  dell’animo e in particolare dell’interiorità di Salonia. Mai il moto
  ondoso appare agitato\, perché quel silenzio rimanda a una simbiosi tota
 le tra la natura e il genere umano. Un senso di appartenenza riluce tra l
 ’autrice e la sua Sicilia dove l’acqua cristallina l’ha tenuta a bat
 tesimo. E così ogni opera appare un canto dello spirito\, eco di impertur
 babili e luminosi giorni. Sugli scogli\, invece\, le stelle marine ancora 
 umide e ansimanti si lasciano ammirare dall’osservatore\, come ad abband
 onarsi fiduciosamente allo sguardo: la straordinarietà del Creato è cos
 ì vicina all’uomo che non serve avvalersi della fantasia per immergersi
  in essa». \n\nParlando del suo rapporto con il mare e di come sia entrat
 o a far parte della sua esistenza\, l’artista Elvira Salonia dichiara: 
 “È entrato a far parte della mia vita fin dall’infanzia. Non ricordo 
 di aver mai passato un’estate lontana dal mare. Già dalla metà di giug
 no in poi ci si trasferiva nella località di mare. Era l’inizio della l
 ibertà\, perché le scuole intanto si erano chiuse e si poteva andare a f
 are i bagni e poi c’erano le infinite corse sulla spiaggia\, le passeggi
 ate con la bici sul lungomare e tanto altro. Ora\, da adulta\, messo da pa
 rte l’aspetto ludico\, continuo ad avere un legame molto forte con il ma
 re\, così appena posso\, mi allontano dalla frenesia della città e lo ra
 ggiungo\, perché anche solamente la sua vista mi dona un senso di pace in
 finita e calma ogni mia inquietudine. Del mare amo tutto\, i suoi orizzont
 i sconfinati\, a volte sfumati\, a volte chiari\, dorati all’alba e ross
 i al tramonto. Amo il mare calmo con le immagini che si riflettono nelle s
 ue acque chiare e trasparenti\, creando un mondo fantastico a seconda dell
 a luce e dei movimenti dell’acqua e amo il mare agitato dal vento che gi
 oca con le vele\, mentre queste cavalcano leggere le onde\, trasmettendo u
 n senso di libertà. Amo ancora il profumo del mare\, l’acqua salata sul
 le labbra\, il suono dell’onda che si avvicina e va subito via. Condivid
 o quindi perfettamente il pensiero di Carl Gustav Jung che recita “Il ma
 re è come la musica: contiene e suscita tutti i sogni dell’anima”.\n\
 nVista Mare\, mostra personale di Elvira Salonia\n\nSede: Galleria dei Mir
 acoli\, via del Corso 528\, Roma\n\nPeriodo espositivo: dal 4 al 18 Marzo\
 n\nOrari: lun./sab. 12.00-19.00\n\nIngresso libero\n\n&nbsp\;
ATTACH;FMTTYPE=image/jpeg:https://lazioeventi.com/wp-content/uploads/2024/
 02/Elvira-Salonia-Fra-le-onde-acrilico-cm70x50.jpg
CATEGORIES:Arte e Cultura nel Lazio
LOCATION:Roma\, Via Leopardi\, Roma\, Roma\, Lazio\, Italia
GEO:41.8942;12.5017
X-APPLE-STRUCTURED-LOCATION;VALUE=URI;X-ADDRESS=Via Leopardi\, Roma\, Roma\
 , Lazio\, Italia;X-APPLE-RADIUS=100;X-TITLE=Roma:geo:41.8942,12.5017
END:VEVENT
BEGIN:VTIMEZONE
TZID:Europe/Rome
X-LIC-LOCATION:Europe/Rome
BEGIN:STANDARD
DTSTART:20231029T020000
TZOFFSETFROM:+0200
TZOFFSETTO:+0100
TZNAME:CET
END:STANDARD
END:VTIMEZONE
END:VCALENDAR