BEGIN:VCALENDAR
VERSION:2.0
PRODID:-//wp-events-plugin.com//7.2.3.1//EN
TZID:Europe/Rome
X-WR-TIMEZONE:Europe/Rome
BEGIN:VEVENT
UID:33717@lazioeventi.com
DTSTART;TZID=Europe/Rome:20250223T200000
DTEND;TZID=Europe/Rome:20250223T234500
DTSTAMP:20250218T123608Z
URL:https://lazioeventi.com/eventi/vita-da-principi
SUMMARY:Vita da Principi - Ariccia - 23 Febbraio 25 20:00
DESCRIPTION:Prosegue la stagione di prosa 2024-2025 del Teatro Bernini di A
 riccia che – sotto la direzione artistica di Giacomo Zito e con il contr
 ibuto economico del Comune di Ariccia\, nell’ambito delle iniziative di 
 “Ariccia da amare” – propone molteplici appuntamenti in calendario. 
 Il Teatro di Piazza San Nicola è pronto ad accogliere il pubblico ariccin
 o e non solo per nuove imperdibile date.\n\nDomenica 23 febbraio alle ore 
 18 si torna a Palazzo Chigi con “Vita da Principi”\, il viaggio nel te
 mpo in compagnia dei fantasmi della famiglia Chigi.\n\nPRENOTAZIONE OBBLIG
 ATORIA\nINFO E PRENOTAZIONI:\npreno@arteideaeventieservizi.it\ntel: 328 33
 38669
ATTACH;FMTTYPE=image/jpeg:https://lazioeventi.com/wp-content/uploads/2023/
 01/MANIFESTO-PROVV-001.jpg
CATEGORIES:Musica, Spettacoli e Danza nel Lazio
LOCATION:Ariccia\, Comune\, Ariccia\, Roma\, Lazio\, Italia
GEO:41.72;12.671
X-APPLE-STRUCTURED-LOCATION;VALUE=URI;X-ADDRESS=Comune\, Ariccia\, Roma\, L
 azio\, Italia;X-APPLE-RADIUS=100;X-TITLE=Ariccia:geo:41.72,12.671
END:VEVENT
BEGIN:VTIMEZONE
TZID:Europe/Rome
X-LIC-LOCATION:Europe/Rome
BEGIN:STANDARD
DTSTART:20241027T020000
TZOFFSETFROM:+0200
TZOFFSETTO:+0100
TZNAME:CET
END:STANDARD
END:VTIMEZONE
END:VCALENDAR