BEGIN:VCALENDAR
VERSION:2.0
PRODID:-//wp-events-plugin.com//7.2.3.1//EN
TZID:Europe/Rome
X-WR-TIMEZONE:Europe/Rome
BEGIN:VEVENT
UID:40179@lazioeventi.com
DTSTART;TZID=Europe/Rome:20241113T163000
DTEND;TZID=Europe/Rome:20241113T183000
DTSTAMP:20241030T102503Z
URL:https://lazioeventi.com/eventi/vite-in-musica-ray-charles
SUMMARY:Vite in musica - Ray Charles - Roma - 13 Novembre 24 16:30
DESCRIPTION:Tra Cinema e Note: Al Teatro Palladium quattro grandi film che 
 raccontano la storia di Whitney Houston\, Ray Charles\, Andreï Filipov e 
 i Bee Gees.\n\nDal 5 novembre al 10 dicembre\, i biopic dedicati alle legg
 ende della musica\, esplorando il loro percorso artistico e umano.\n\nWhit
 ney Houston\, Ray Charles\, Andreï Filipov e i Bee Gees: tra grandi voci 
 e storie drammatiche\, innovatori e sperimentatori\, dal 5 novembre al 10 
 dicembre torna al Teatro Palladium Vite in Musica\, un’immersione nelle 
 vite straordinarie di questi artisti\, raccontate attraverso le narrazioni
  cinematografiche di Kasi Lemmons\, Taylor Hackford\, Radu Mihăileanu e F
 rank Marshall.\n\nLe quattro proiezioni\, ad ingresso gratuito\, saranno p
 recedute da presentazioni tenute da critici cinematografici e musicali: og
 nuno di loro introdurrà la pellicola dal suo particolare punto di vista d
 isciplinare e grazie alla sua sensibilità artistica.\n\nIn dialogo fra ci
 nema e musica\, gli incontri di Vite in Musica diventano così occasione p
 er scoprire i retroscena delle vite di artisti icone della storia della mu
 sica\, indagando il legame fra le sette note e la settima arte\, secondo l
 'idea originale di Luca Aversano ed Enrico Carocci che ha dato il via al p
 rogetto. Le “vite in musica” spaziano dal classico al rock al soul e d
 anno particolare risalto alle relazioni fra la regia e la composizione\, f
 ra il genere e il profilo musicale\, senza dimenticare le vicende che hann
 o legato grandi registi a grandi compositori e musicisti ed esaltando le e
 sperienze personali dei protagonisti intrecciate con quelle storiche.\n\nI
 l primo appuntamento è martedì 5 novembre con Whitney - Una voce diventa
 ta leggenda (Whitney Houston: I Wanna Dance with Somebody\, 2022) di Kasi 
 Lemmons\, con introduzione di Luca Aversano e Enrico Carocci. Scoperta dal
  produttore discografico Clive Davis\, la fama di Whitney Houston prende p
 iede intorno agli anni '80\, prima di diventare una delle più grandi cant
 anti della sua generazione. Con oltre 200 milioni di dischi venduti in tut
 to il mondo\, ha raggiunto vette storiche: è stata la prima artista a pia
 zzare 7 singoli consecutivi al primo posto della Billboard Hot 100 e l'alb
 um The Bodyguard (1992)\, contenente la celebre "I Will Always Love You\,"
  è la colonna sonora più venduta di sempre\; il Guinness dei Primati l
 ’ha riconosciuta come l'artista donna più premiata di tutti i tempi con
  un totale di circa 657 premi (tra cui 8 Grammy Awards\, 2 Emmy Awards\, 3
 1 Billboard Music Awards\, 22 American Music Awards).\n\nSegue mercoledì 
 13 novembre la proiezione di Ray (Id.\, 2004) di Taylor Hackford\, la cui 
 introduzione è affidata a Giacomo Ravesi e Giovanni Vacca. Ray Charles\, 
 “padre” della musica soul\, ha trasformato le difficoltà della sua vi
 ta in una carriera straordinaria: nato povero e cieco dall'infanzia\, ha l
 ottato contro emarginazione e dipendenze\, diventando uno dei più influen
 ti musicisti del XX secolo e ispirando generazioni di artisti. Attivo sost
 enitore dei diritti civili\, Ray Charles si rifiutò di esibirsi davanti a
  platee segregate e si schierò al fianco della comunità afroamericana.\n
 \nGiovedì 5 dicembre sarà la volta de Il concerto (Le concert\, 2009) di
  Radu Mihăileanu\, introdotto da Elena Oliva ed Elio Ugenti. Ex direttore
  d’orchestra del celebre Teatro Bol'šoj di Mosca\, Andreï Filipov vien
 e deposto dalla politica di Brežnev per essersi rifiutato di espellere da
 lla propria orchestra i musicisti ebrei\, opponendosi alle politiche antis
 emite del regime. Anni dopo\, lavorando come addetto alle pulizie\, interc
 etta casualmente un invito per un concerto a Parigi e decide di riunire i 
 suoi vecchi colleghi ebrei\, ormai ridotti a vivere di espedienti\, per es
 ibirsi un'ultima volta. La potente storia celebra la passione per la music
 a e il coraggio di ribellarsi all’oppressione\, offrendo un messaggio im
 portante di riscatto e unità.\n\nLa rassegna Vite in Musica si conclude m
 artedì 10 dicembre con la proiezione di The Bee Gees: How Can You Mend a 
 Broken Heart (2020) di Frank Marshall\, presentato da Mattia Cinquegrani e
  Jacopo Pellegrini. Primo documentario autorizzato da Barry Gibb e dalle f
 amiglie di Robin e Maurice Gibb\, il film ripercorre il percorso del trio 
 che ha segnato la storia della musica pop e disco con l'obiettivo di scopr
 ire perché le loro canzoni siano ancora così amate dopo oltre mezzo seco
 lo. Con successi come Stayin’ Alive\, How Deep Is Your Love e Night Feve
 r\, hanno definito l’era della disco music negli anni ‘70 e sono ancor
 a moderni e molto amati: grazie al loro particolarissimo stile armonico\, 
 il mix di sonorità pop\, rock e R&B e temi come l’amore e la resilienza
 \, i Bee Gees risultano tuttora rilevanti e attuali.\n\n“Vite in Musica
 ” è realizzato con il contributo del MiC / Direzione Generale Cinema e 
 Audiovisivo da un’idea di Luca Aversano\, Enrico Carocci\, in collaboraz
 ione con Matteo Santandrea.\n\nPer maggiori informazioni\, visitare il sit
 o https://teatropalladium.uniroma3.it/evento/vite-in-musica-5/
ATTACH;FMTTYPE=image/jpeg:https://lazioeventi.com/wp-content/uploads/2023/
 10/Teatro-Palladium_Foto-di-Luca-Perazzolo-1.jpg
CATEGORIES:Musica, Spettacoli e Danza nel Lazio
LOCATION:Roma\, Via Leopardi\, Roma\, Roma\, Lazio\, Italia
GEO:41.8942;12.5017
X-APPLE-STRUCTURED-LOCATION;VALUE=URI;X-ADDRESS=Via Leopardi\, Roma\, Roma\
 , Lazio\, Italia;X-APPLE-RADIUS=100;X-TITLE=Roma:geo:41.8942,12.5017
END:VEVENT
BEGIN:VTIMEZONE
TZID:Europe/Rome
X-LIC-LOCATION:Europe/Rome
BEGIN:STANDARD
DTSTART:20241027T020000
TZOFFSETFROM:+0200
TZOFFSETTO:+0100
TZNAME:CET
END:STANDARD
END:VTIMEZONE
END:VCALENDAR