BEGIN:VCALENDAR
VERSION:2.0
PRODID:-//wp-events-plugin.com//7.2.3.1//EN
TZID:Europe/Rome
X-WR-TIMEZONE:Europe/Rome
BEGIN:VEVENT
UID:29391@lazioeventi.com
DTSTART;TZID=Europe/Rome:20211203T180000
DTEND;TZID=Europe/Rome:20211203T200000
DTSTAMP:20211129T083234Z
URL:https://lazioeventi.com/eventi/vittorio-sgarbi-presenta-lultima-libert
 a
SUMMARY:Vittorio Sgarbi presenta “L’Ultima libertà” - Roma - 3 Dicem
 bre 21 18:00
DESCRIPTION:Il prossimo 3 dicembre alle ore 18.00\, al Tennis Club Parioli\
 , verrà presentata dall’illustre critico d’arte Vittorio Sgarbi l’u
 ltima opera letteraria del Prof. e giornalista Elio Rogati\, il romanzo 
 “L’Ultima Libertà”\, edito da Gruppo Albatros\, oltre all’autore 
 interverranno la psicologa e psicoterapeuta Dottoressa Pina Li Petri e la 
 Dottoressa Emanuela Andreoli\, Consigliere per le relazioni culturali del 
 Tennis Club Parioli\, la lettura di alcuni brani è affidata alla poliedri
 ca attrice Giada Prandi.\n\nAlla presentazione seguirà un live drawing de
 l maestro Roberto Di Costanzo\, celebre illustratore romano\, sulle note d
 ell’arpista Brian Meloni Lebano.\n\nL’ultima opera letteraria di Elio 
 Rogati riporta nella quarta di copertina una frase di Sandro Pertini “Le
  tue opinioni sono contrarie alle mie\, ma io mi batterò\, anche a costo 
 della vita\, per garantire a te la libertà di esprimere le tue idee”.\n
 \nE proprio da questo tema inizia la prima parte del romanzo\, un’opera 
 forte e meditativa sull'amore e la solitudine\, ma soprattutto sul ruolo d
 ella cultura\, premessa di quella libertà che ha spinto gli uomini nei se
 coli a contrapporsi e combattersi\, ciascuno rivendicando la propria liber
 tà contro quella altrui.\n\nLa seconda parte del libro comprende nove rac
 conti\, di cui sette di viaggio\, che sono una reinterpretazione e descriz
 ione soggettiva del tempo passato in Vietnam\, Argentina\, Sud Africa. Son
 o esperienze di rara intensità che affascinano e avvicinano a mondi lonta
 ni dal nostro per tradizioni e cultura. Coglierne alcuni frammenti vuol di
 re ampliare il proprio sguardo su un pianeta pieno di ricchezze\, non solo
  materiali.\n\nParte del ricavato dalla vendita del libro “L’Ultima Li
 bertà” sarà destinato alla realizzazione e al sostegno dei laboratori 
 solidali di scrittura LetterariaMente.\n\nAll’evento si potrà accedere 
 muniti di green pass e mascherina obbligatoria.\n\n  \n\nBreve note biog
 rafiche di Elio Rogati:\n\nElio Rogati\, ha avuto tre successive esperienz
 e professionali: Giornalista professionista a 22 anni e corrispondente dal
 l’estero a 23 - Consigliere parlamentare di ruolo - Docente universitari
 o.\n\nHa al suo attivo numerosi libri\, pubblicazioni varie e collaborazio
 ni.\n\nPer i dettagli: www.eliorogati.it
ATTACH;FMTTYPE=image/jpeg:https://lazioeventi.com/wp-content/uploads/2021/
 11/utima-liberta.jpg
CATEGORIES:Arte e Cultura nel Lazio
LOCATION:Roma\, Via Leopardi\, Roma\, Roma\, Lazio\, Italia
GEO:41.8942;12.5017
X-APPLE-STRUCTURED-LOCATION;VALUE=URI;X-ADDRESS=Via Leopardi\, Roma\, Roma\
 , Lazio\, Italia;X-APPLE-RADIUS=100;X-TITLE=Roma:geo:41.8942,12.5017
END:VEVENT
BEGIN:VTIMEZONE
TZID:Europe/Rome
X-LIC-LOCATION:Europe/Rome
BEGIN:STANDARD
DTSTART:20211031T020000
TZOFFSETFROM:+0200
TZOFFSETTO:+0100
TZNAME:CET
END:STANDARD
END:VTIMEZONE
END:VCALENDAR