BEGIN:VCALENDAR
VERSION:2.0
PRODID:-//wp-events-plugin.com//7.2.3.1//EN
TZID:Europe/Rome
X-WR-TIMEZONE:Europe/Rome
BEGIN:VEVENT
UID:40697@lazioeventi.com
DTSTART;TZID=Europe/Rome:20250208T100000
DTEND;TZID=Europe/Rome:20250209T190000
DTSTAMP:20250202T200746Z
URL:https://lazioeventi.com/eventi/vivi-roma-con-romanitas-le-visite-guida
 te-del-weekend-3
SUMMARY:Vivi Roma con Romanitas! Le Visite guidate del Weekend - Roma - 8 F
 ebbraio 25 10:00
DESCRIPTION:Passeggiate e Visite Guidate di Sabato 8 e Domenica 9 Febbraio 
 2025\n\nVieni a scoprire con noi la storia della nostra città e lasciati 
 sorprendere dai panorami e dai colori romani con le nostre visite guidate.
 \n\nTutte le visite vanno prenotate almeno il giorno prima\, per alcune la
  prenotazione è richiesta con maggior anticipo.\n\n\nSabato 8 Febbraio 20
 25\, ore 15:30 - Visita guidata Il Mosè di Michelangelo e la Suburra  Pa
 sseggiando in un quartiere dell’Antica Roma\nhttps://visiteguidateroma.c
 om/all-events/?event=4134\n\nSabato 8 Febbraio 2025\, ore 15:30 - Visita g
 uidata La Roma antica in 3D\nhttps://visiteguidateroma.com/all-events/?eve
 nt=4481\n\nDomenica 9 Febbraio 2025\, ore 15:30 - Visita guidata Il Quarti
 ere Coppedé - Una gemma Liberty a Roma\nhttps://visiteguidateroma.com/all
 -events/?event=4481\n\nDomenica 9 Febbraio 2025\, ore 15:30 - Visita guida
 ta Scopriamo il Medioevo a Roma: dalla Fortezza dell’ Aventino alle dimo
 re della Valle\nhttps://visiteguidateroma.com/all-events/?event=2774\n\n\n
 \nINFORMAZIONI\, ORARI E TARIFFE\nSi prega di far riferimento ai link di o
 gni visita specifica.\nLa Tariffa include l'Auricolare che permette di seg
 uire la visita in sicurezza ed in assoluto comfort.\nRegolamento Associati
 vo https://visiteguidateroma.com/eventi/ per visionare il Regolamento asso
 ciativo completo.\n\nFesteggia Il Compleanno con Visiteguidateroma!\nTi Re
 galiamo una Visita guidata per il Tuo Compleanno! (Promo Valida dal giorno
  del Compleanno al weekend successivo per un minimo di 6 Adulti).\n\nVISIT
 E PRIVATE\nTutti i nostri Itinerari possono essere svolti anche privatamen
 te a delle ottime Tariffe di Benvenuto. Basta contattare Beatrice al n 339
  592 4941 e valutare le tante proposte ed i percorsi da creare "ad hoc" pe
 r Voi.\n\nPRENOTAZIONI\nTutte le Visite necessitano della prenotazione inv
 iando una e mail a visiteguidateroma@romanitas.it oppure con un Sms o WA a
 i numeri\nBeatrice 339 592 4941\nCristiana 331 563 2913\nIndispensabile pe
 r ricevere la conferma e qualsiasi dettaglio o variazione utile.
ATTACH;FMTTYPE=image/jpeg:https://lazioeventi.com/wp-content/uploads/2025/
 02/battello-000.jpg
CATEGORIES:Arte e Cultura nel Lazio
LOCATION:Roma\, Via Leopardi\, Roma\, Roma\, Lazio\, Italia
GEO:41.8942;12.5017
X-APPLE-STRUCTURED-LOCATION;VALUE=URI;X-ADDRESS=Via Leopardi\, Roma\, Roma\
 , Lazio\, Italia;X-APPLE-RADIUS=100;X-TITLE=Roma:geo:41.8942,12.5017
END:VEVENT
BEGIN:VTIMEZONE
TZID:Europe/Rome
X-LIC-LOCATION:Europe/Rome
BEGIN:STANDARD
DTSTART:20241027T020000
TZOFFSETFROM:+0200
TZOFFSETTO:+0100
TZNAME:CET
END:STANDARD
END:VTIMEZONE
END:VCALENDAR