BEGIN:VCALENDAR
VERSION:2.0
PRODID:-//wp-events-plugin.com//7.2.3.1//EN
TZID:Europe/Rome
X-WR-TIMEZONE:Europe/Rome
BEGIN:VEVENT
UID:38406@lazioeventi.com
DTSTART;TZID=Europe/Rome:20240531T100000
DTEND;TZID=Europe/Rome:20240607T203000
DTSTAMP:20240527T084304Z
URL:https://lazioeventi.com/eventi/vivi-roma-con-romanitas-le-visite-guida
 te-di-romanitas-10
SUMMARY:Vivi Roma con Romanitas! Le visite guidate di Romanitas - Roma - 31
  Maggio 24 10:00
DESCRIPTION:Passeggiate e visite guidate da Venerdì 31 Maggio a Venerdì 7
  Giugno 2024.\n\nVieni a scoprire con noi la storia della nostra città e 
 lasciati sorprendere dai panorami e dai colori romani.\n\nAlcune visite va
 nno prenotate in anticipo per le prenotazioni necessarie.\n\nEcco gli itin
 erari per Voi.\n\nVenerdì 31 Maggio h 20:30 - Visita Guidata Passeggiata 
 serale nel salotto di Roma per finire con un suggestivo gioco di luci\nhtt
 ps://www.romanitas.it/calendario-visite-guidate/?event=3734\n\nSabato 1 Gi
 ugno h 18:00 - Visita Guidata Passeggiata archeologica nell’antica Roma
 : Un itinerario nella storia di Roma\nhttps://www.romanitas.it/calendario-
 visite-guidate/?event=3765\n\nDomenica 2 Giugno h 17:00 - Passeggiata sull
 e tracce dei teatri di Roma antica (da Marcello a Pompeo) attraversando vi
 coli storici di tre Rioni\nhttps://www.romanitas.it/calendario-visite-guid
 ate/?event=3762\n\nDomenica 2 Giugno h 18:00 - Visita Guidata Passeggiata 
 tra antichi Porti e Mura Romane\nhttps://www.romanitas.it/calendario-visit
 e-guidate/?event=3768\n\nVenerdì 7 Giugno h 19:30 - Il fascino e le legge
 nde delle donne che hanno fatto grande Roma\nhttps://www.romanitas.it/cale
 ndario-visite-guidate/?event=3171\n\n\nINFORMAZIONI\, ORARI E TARIFFE\nSi 
 prega di far riferimento ai link di ogni visita specifica.\nLa Tariffa inc
 lude l'Auricolare che permette di seguire la visita in sicurezza ed in ass
 oluto comfort.\nRegolamento Associativo https://www.romanitas.it/passeggia
 ndo-nella-storia/\n\nFesteggia Il Compleanno con Romanitas!\nTi Regaliamo 
 una Visita guidata per il Tuo Compleanno! (Promo Valida dal giorno del Com
 pleanno al weekend successivo per un minimo di 6 Adulti).\n\nVISITE PRIVAT
 E\nTutti i nostri Itinerari possono essere svolti anche privatamente a del
 le ottime Tariffe di Benvenuto. Basta contattare Beatrice al n 339 592 494
 1 e valutare le tante proposte ed i percorsi da creare "ad hoc" per Voi.\n
 \nPRENOTAZIONI\nTutte le Visite necessitano della prenotazione inviando un
 a e mail a visiteguidate@romanitas.it oppure con un Sms o WA ai numeri\nBe
 atrice 339 592 4941\nCristiana 331 563 2913\nIndispensabile per ricevere l
 a conferma e qualsiasi dettaglio o variazione utile.
ATTACH;FMTTYPE=image/jpeg:https://lazioeventi.com/wp-content/uploads/2024/
 01/Collfoto-ForoRVitt.jpg
CATEGORIES:Arte e Cultura nel Lazio
LOCATION:Roma\, Via Leopardi\, Roma\, Roma\, Lazio\, Italia
GEO:41.8942;12.5017
X-APPLE-STRUCTURED-LOCATION;VALUE=URI;X-ADDRESS=Via Leopardi\, Roma\, Roma\
 , Lazio\, Italia;X-APPLE-RADIUS=100;X-TITLE=Roma:geo:41.8942,12.5017
END:VEVENT
BEGIN:VTIMEZONE
TZID:Europe/Rome
X-LIC-LOCATION:Europe/Rome
BEGIN:DAYLIGHT
DTSTART:20240331T030000
TZOFFSETFROM:+0100
TZOFFSETTO:+0200
TZNAME:CEST
END:DAYLIGHT
END:VTIMEZONE
END:VCALENDAR