BEGIN:VCALENDAR
VERSION:2.0
PRODID:-//wp-events-plugin.com//7.2.3.1//EN
TZID:Europe/Rome
X-WR-TIMEZONE:Europe/Rome
BEGIN:VEVENT
UID:30593@lazioeventi.com
DTSTART;TZID=Europe/Rome;VALUE=DATE:20220424
DTEND;TZID=Europe/Rome;VALUE=DATE:20220425
DTSTAMP:20220421T052404Z
URL:https://lazioeventi.com/eventi/viviamo-il-quartiere
SUMMARY:Viviamo il Quartiere - Roma - 24 Aprile 22 00:00
DESCRIPTION:Domenica 24 Aprile \ntornerà l'appuntamento con il mercatino d
 i qualità in Piazza Carlo Alberto Scotti. \n\nMercatino con artigianato\,
  hobbistica\, prodotti tipici\, antiquariato\, articoli da regalo e tante 
 altre sorprese.\n\nAlla manifestazione parteciperanno espositori di eccell
 ente qualità\, come sua caratteristica. \n\nPer informazioni\n3894882174 
 - 3389959140
ATTACH;FMTTYPE=image/jpeg:https://lazioeventi.com/wp-content/uploads/2022/
 04/viviamo-il-quartiere.jpg
CATEGORIES:Fiere e Mercatini nel Lazio
LOCATION:Roma\, Via Leopardi\, Roma\, Roma\, Lazio\, Italia
GEO:41.8942;12.5017
X-APPLE-STRUCTURED-LOCATION;VALUE=URI;X-ADDRESS=Via Leopardi\, Roma\, Roma\
 , Lazio\, Italia;X-APPLE-RADIUS=100;X-TITLE=Roma:geo:41.8942,12.5017
END:VEVENT
BEGIN:VTIMEZONE
TZID:Europe/Rome
X-LIC-LOCATION:Europe/Rome
BEGIN:DAYLIGHT
DTSTART:20220327T030000
TZOFFSETFROM:+0100
TZOFFSETTO:+0200
TZNAME:CEST
END:DAYLIGHT
END:VTIMEZONE
END:VCALENDAR