BEGIN:VCALENDAR
VERSION:2.0
PRODID:-//wp-events-plugin.com//7.2.3.1//EN
TZID:Europe/Rome
X-WR-TIMEZONE:Europe/Rome
BEGIN:VEVENT
UID:43918@lazioeventi.com
DTSTART;TZID=Europe/Rome:20260307T110000
DTEND;TZID=Europe/Rome:20260307T130000
DTSTAMP:20260304T101352Z
URL:https://lazioeventi.com/eventi/voci-dal-lago
SUMMARY:Voci dal Lago - Nemi - 7 Marzo 26 11:00
DESCRIPTION:Ci sono luoghi che custodiscono navi.\nE luoghi che custodiscon
 o voci.\nPer un mattino\, la navigazione nell’antichità diventa un racc
 onto europeo: tra archeologia navale\, ricerca e dialogo internazionale.\n
 \nInterventi:\n— 𝐃𝐚𝐧𝐢𝐞𝐥𝐚 𝐃𝐞 𝐀𝐧𝐠𝐞
 𝐥𝐢𝐬 · Museo delle Navi Romane di Nemi\n— 𝐀𝐥𝐞𝐱𝐚
 𝐧𝐝𝐫𝐚 𝐁𝐮𝐬𝐜𝐡 · LEIZA\, Mainz (Museo della Naviga
 zione Antica)\nSaluti istituzionali:\n— 𝐀𝐥𝐛𝐞𝐫𝐭𝐨 
 𝐁𝐞𝐫𝐭𝐮𝐜𝐜𝐢 · Sindaco di Nemi\n— 𝐄𝐥𝐢𝐬
 𝐚𝐛𝐞𝐭𝐭𝐚 𝐒𝐜𝐮𝐧𝐠𝐢𝐨 · Direttore regiona
 le Musei nazionali Lazio\n\nIngresso libero\, senza prenotazione.\n\nInfo:
  +39 06 9398040 · drm-laz.naviromane@cultura.gov.it
ATTACH;FMTTYPE=image/jpeg:https://lazioeventi.com/wp-content/uploads/2026/
 03/voci-dal-lago.jpg
CATEGORIES:Arte e Cultura nel Lazio
LOCATION:Nemi\, Comune\, Nemi\, Roma\, Lazio\, Italia
GEO:41.7196;12.7145
X-APPLE-STRUCTURED-LOCATION;VALUE=URI;X-ADDRESS=Comune\, Nemi\, Roma\, Lazi
 o\, Italia;X-APPLE-RADIUS=100;X-TITLE=Nemi:geo:41.7196,12.7145
END:VEVENT
BEGIN:VTIMEZONE
TZID:Europe/Rome
X-LIC-LOCATION:Europe/Rome
BEGIN:STANDARD
DTSTART:20251026T020000
TZOFFSETFROM:+0200
TZOFFSETTO:+0100
TZNAME:CET
END:STANDARD
END:VTIMEZONE
END:VCALENDAR