BEGIN:VCALENDAR
VERSION:2.0
PRODID:-//wp-events-plugin.com//7.2.3.1//EN
TZID:Europe/Rome
X-WR-TIMEZONE:Europe/Rome
BEGIN:VEVENT
UID:38697@lazioeventi.com
DTSTART;TZID=Europe/Rome:20240308T173000
DTEND;TZID=Europe/Rome:20240308T190000
DTSTAMP:20240306T080554Z
URL:https://lazioeventi.com/eventi/voci-del-novecento
SUMMARY:Voci del Novecento - Pomezia - 8 Marzo 24 17:30
DESCRIPTION:Venerdì 8 marzo\, alle 17\,30\, in occasione della Giornata In
 ternazionale per i Diritti della Donna\,\n\nMCPLab900 vi invita al reading
  di Micaela Sangermano dedicato al Novecento come secolo della scrittura f
 emminile.\n\nVOCI DEL NOVECENTO\,  iniziativa realizzata con il sostegno d
 ella Servizi in Comune SpA\, ci restituirà la forza\, la statura e il gra
 nde valore artistico di alcune fra le più significative intellettuali e s
 crittrici\, dai primi del Novecento a oggi.\n\nL’ingresso è gratuito e 
 la prenotazione obbligatoria. \n\nNel corso di tutta la giornata\, inoltre
 \, l’ingresso al Museo sarà gratuito per le donne.
ATTACH;FMTTYPE=image/jpeg:https://lazioeventi.com/wp-content/uploads/2024/
 03/voci-novecento.jpg
CATEGORIES:Arte e Cultura nel Lazio
LOCATION:Pomezia\, Comune\, Pomezia\, Roma\, Lazio\, Italia
GEO:41.6732;12.5004
X-APPLE-STRUCTURED-LOCATION;VALUE=URI;X-ADDRESS=Comune\, Pomezia\, Roma\, L
 azio\, Italia;X-APPLE-RADIUS=100;X-TITLE=Pomezia:geo:41.6732,12.5004
END:VEVENT
BEGIN:VTIMEZONE
TZID:Europe/Rome
X-LIC-LOCATION:Europe/Rome
BEGIN:STANDARD
DTSTART:20231029T020000
TZOFFSETFROM:+0200
TZOFFSETTO:+0100
TZNAME:CET
END:STANDARD
END:VTIMEZONE
END:VCALENDAR