BEGIN:VCALENDAR
VERSION:2.0
PRODID:-//wp-events-plugin.com//7.2.3.1//EN
TZID:Europe/Rome
X-WR-TIMEZONE:Europe/Rome
BEGIN:VEVENT
UID:43218@lazioeventi.com
DTSTART;TZID=Europe/Rome:20251130T110000
DTEND;TZID=Europe/Rome:20251130T210000
DTSTAMP:20251126T214355Z
URL:https://lazioeventi.com/eventi/voci-e-tradizioni-del-lazio
SUMMARY:Voci e Tradizioni del Lazio - Monte Romano - 30 Novembre 25 11:00
DESCRIPTION:Voci e Tradizioni del Lazio: Al Teatro Petrolini di Testaccio l
 a rassegna di monologhi e canzoni in dialetto\n\n\nUn concorso di monologh
 i in dialetto provenienti dalle cinque province del Lazio\, uno stage form
 ativo sulle forme  musicali della canzone romana\, un concerto spettacolo 
 del Maestro Paolo Gatti con i brani più iconici della tradizione popolare
 \, il tutto condito con aperitivo a base di prodotti tipici regionali\, da
 i vini ai formaggi.  \n\nSono i principali ingredienti del progetto “Voc
 i e Tradizioni del Lazio: Rassegna di Monologhi in Dialetto e Canzoni dell
 a tradizione popolare\, promosso dall’Associazione Stanza 236 e realizza
 to con il contributo della Regione Lazio\, teso a valorizzare il territori
 o laziale\, partendo dalla tradizione dell’arte poetica e musicale che n
 e caratterizza la storia\, unitamente alle eccellenze enogastronomiche reg
 ionali.\n\nGuidati da Paolo Gatti\, musicista e ricercatore impegnato nell
 a divulgazione della cultura popolare romana\, domenica 30 novembre nella 
 cornice del Teatro Petrolini di Testaccio in Roma\, il pubblico vivrà un
 ’esperienza unica\, tra musica\, parole e gusto\, capace di rievocare l
 ’epica popolare della Città Eterna e dell’intero Lazio.\n\nSceneggiat
 e\, sonetti\, monologhi e stornelli saranno la colonna sonora dal mattino 
 a sera\, quando l’evento si concluderà con la premiazione del concorso 
 ed un concerto spettacolo del Maestro Paolo Gatti. A portare i saluti isti
 tuzionali sarà il Consigliere di Roma Capitale Federico Rocca.\n\n“Una 
 giornata speciale – dichiara Cristina Valeri Presidente di Stanza 236 
 – che inaugura il lungo periodo delle festività rievocando il clima del
 la tradizione più autentica di Roma e della nostra Regione. L’arte poet
 ica e musicale che ci ha raccontato nei secoli nel mondo\, tratteggiando i
  contorni dell’identità che rende unici questi luoghi e chi li abita. M
 angiare\, cantare\, suonare\, scrivere: le arti che umanizzano la storia
 ”.\n
ATTACH;FMTTYPE=image/jpeg:https://lazioeventi.com/wp-content/uploads/2025/
 11/locandinavocitradizionilazio.jpg
CATEGORIES:Arte e Cultura nel Lazio,Musica, Spettacoli e Danza nel Lazio
LOCATION:Monte Romano\, Comune di Monte Romano\, Monte Romano\, Viterbo\, L
 azio\, Italia
GEO:42.2677;11.8988
X-APPLE-STRUCTURED-LOCATION;VALUE=URI;X-ADDRESS=Comune di Monte Romano\, Mo
 nte Romano\, Viterbo\, Lazio\, Italia;X-APPLE-RADIUS=100;X-TITLE=Monte Rom
 ano:geo:42.2677,11.8988
END:VEVENT
BEGIN:VTIMEZONE
TZID:Europe/Rome
X-LIC-LOCATION:Europe/Rome
BEGIN:STANDARD
DTSTART:20251026T020000
TZOFFSETFROM:+0200
TZOFFSETTO:+0100
TZNAME:CET
END:STANDARD
END:VTIMEZONE
END:VCALENDAR