BEGIN:VCALENDAR
VERSION:2.0
PRODID:-//wp-events-plugin.com//7.2.3.1//EN
TZID:Europe/Rome
X-WR-TIMEZONE:Europe/Rome
BEGIN:VEVENT
UID:40032@lazioeventi.com
DTSTART;TZID=Europe/Rome;VALUE=DATE:20241020
DTEND;TZID=Europe/Rome;VALUE=DATE:20241021
DTSTAMP:20241014T143928Z
URL:https://lazioeventi.com/eventi/walk-for-the-cure-2
SUMMARY:Walk for the Cure - Monte Compatri - 20 Ottobre 24 00:00
DESCRIPTION:La “Walk for the Cure” si svolgerà domenica 20 ottobre con
  partenza prevista per le ore 10. L’appuntamento per tutti è al prato d
 i San Silvestro alle ore 9.\nIl percorso prevede una passeggiata di due ch
 ilometri e mezzo alle pendici del Tuscolo. Al termine verrà offerto un ap
 eritivo alla Collina degli Asinelli.\n\nDalle ore 12 alle 13 sarà inoltre
  possibile visitare gratuitamente il Convento e la Pinacoteca di San Silve
 stro che effettuerà un’apertura straordinaria per l’occasione.\n\nE
 ’ possibile iscriversi e prendere la maglia ufficiale della “Walk for 
 the Cure” tutti i giorni recandosi presso la sede della Pro Loco in via 
 Cesare Battisti 2 dal lunedì al sabato dalle ore 9 alle 13 e dalle ore 15
  alle 19 e versare un’offerta minima di 10 euro.\nSarà possibile inoltr
 e iscriversi anche il giorno della gara.\n\nInfo e prenotazione maglia pas
 seggiatainrosa@comune.montecompatri.roma.it
ATTACH;FMTTYPE=image/jpeg:https://lazioeventi.com/wp-content/uploads/2024/
 10/walk-the-cure.jpg
CATEGORIES:Varie
LOCATION:Monte Compatri\, Comune\, Monte Compatri\, Roma\, Lazio\, Italia
GEO:41.8081;12.7372
X-APPLE-STRUCTURED-LOCATION;VALUE=URI;X-ADDRESS=Comune\, Monte Compatri\, R
 oma\, Lazio\, Italia;X-APPLE-RADIUS=100;X-TITLE=Monte Compatri:geo:41.8081
 ,12.7372
END:VEVENT
BEGIN:VTIMEZONE
TZID:Europe/Rome
X-LIC-LOCATION:Europe/Rome
BEGIN:DAYLIGHT
DTSTART:20240331T030000
TZOFFSETFROM:+0100
TZOFFSETTO:+0200
TZNAME:CEST
END:DAYLIGHT
END:VTIMEZONE
END:VCALENDAR