BEGIN:VCALENDAR
VERSION:2.0
PRODID:-//wp-events-plugin.com//7.2.3.1//EN
TZID:Europe/Rome
X-WR-TIMEZONE:Europe/Rome
BEGIN:VEVENT
UID:43564@lazioeventi.com
DTSTART;TZID=Europe/Rome:20260117T210000
DTEND;TZID=Europe/Rome:20260117T230000
DTSTAMP:20260115T164047Z
URL:https://lazioeventi.com/eventi/watermelon-slim-in-concerto-ai-magazzin
 i-teatrali
SUMMARY:Watermelon Slim in Concerto ai Magazzini Teatrali - Velletri - 17 G
 ennaio 26 21:00
DESCRIPTION:Un evento imperdibile per gli amanti della "musica del diavolo"
 : sabato 17 gennaio 2026\, il palco dei Magazzini Teatrali ospita una dell
 e voci più autentiche e premiate del panorama blues mondiale.\n\nLa grand
 e musica internazionale torna protagonista ai Castelli Romani. Sabato 17 g
 ennaio 2026\, i Magazzini Teatrali di Velletri apriranno le porte a un ver
 o gigante del blues contemporaneo: Watermelon Slim.\n\nBill Homans\, in ar
 te Watermelon Slim\, non è solo un musicista\, ma un pezzo di storia amer
 icana vivente. La sua performance promette di essere un viaggio viscerale 
 nelle radici del Delta Blues\, caratterizzato dall'inconfondibile suono de
 lla sua slide guitar e dalla sua armonica graffiante.\n\nUn Artista Unico 
 Nato a Boston ma cresciuto con l'anima nel profondo Sud\, Watermelon Slim 
 ha una biografia che sembra uscita da un romanzo: veterano del Vietnam\, c
 amionista\, coltivatore di angurie (da cui il nome d'arte) e intellettuale
 . Ma è sul palco che la sua essenza si rivela: la sua voce intensa e il s
 uo stile\, che mescola il blues rurale più crudo con un'energia moderna\,
  gli sono valsi innumerevoli riconoscimenti\, tra cui molteplici Blues Mus
 ic Awards e candidature come "B.B. King Entertainer of the Year".\n\nL'Eve
 nto Il concerto ai Magazzini Teatrali rappresenta un'occasione rara per as
 coltare dal vivo un artista che ha calcato i palchi dei più prestigiosi f
 estival mondiali\, portando a Velletri le atmosfere fumose e magnetiche de
 l Mississippi. Lo spettacolo si preannuncia come un mix di brani originali
  e classici del repertorio blues\, eseguiti con quella passione e quell'in
 tensità che solo chi ha vissuto "on the road" può trasmettere.
ATTACH;FMTTYPE=image/jpeg:https://lazioeventi.com/wp-content/uploads/2026/
 01/watermelon-slim-velletri-blues-1024x1024-1.jpg
CATEGORIES:Musica, Spettacoli e Danza nel Lazio
LOCATION:Velletri\, Comune\, Velletri\, Roma\, Lazio\, Italia
GEO:41.6865;12.7776
X-APPLE-STRUCTURED-LOCATION;VALUE=URI;X-ADDRESS=Comune\, Velletri\, Roma\, 
 Lazio\, Italia;X-APPLE-RADIUS=100;X-TITLE=Velletri:geo:41.6865,12.7776
END:VEVENT
BEGIN:VTIMEZONE
TZID:Europe/Rome
X-LIC-LOCATION:Europe/Rome
BEGIN:STANDARD
DTSTART:20251026T020000
TZOFFSETFROM:+0200
TZOFFSETTO:+0100
TZNAME:CET
END:STANDARD
END:VTIMEZONE
END:VCALENDAR