BEGIN:VCALENDAR
VERSION:2.0
PRODID:-//wp-events-plugin.com//7.2.3.1//EN
TZID:Europe/Rome
X-WR-TIMEZONE:Europe/Rome
BEGIN:VEVENT
UID:29826@lazioeventi.com
DTSTART;TZID=Europe/Rome:20220215T210000
DTEND;TZID=Europe/Rome:20220215T230000
DTSTAMP:20220207T085345Z
URL:https://lazioeventi.com/eventi/we-all-love-ennio-morricone-dal-vivo
SUMMARY:“We All Love Ennio Morricone” dal vivo - Roma - 15 Febbraio 22 
 21:00
DESCRIPTION:“We All Love Ennio Morricone” è un concerto teatrale ispir
 ato all'omonimo CD prodotto da Luigi Caiola\, manager del Maestro Morricon
 e per 18 anni\, pubblicato da Sony nel 2007 per celebrare l'Oscar alla car
 riera del celebre compositore e direttore d’orchestra.\n\nL'idea che isp
 ira questo lavoro è quella di proporre al pubblico un Morricone insolito\
 , per una volta “raccontato” dalla comunità musicale internazionale p
 iuttosto che dal mondo del cinema al quale\, tutto sommato\, lui ha presta
 to il proprio talento e la propria creatività\, ma senza mai dimenticare 
 di essere innanzitutto un musicista\, al servizio della musica e poi del f
 ilm.\n\nIl concerto\, come pure il CD\, propone infatti alcuni dei più no
 ti brani di Morricone riletti da diversi musicisti e cantanti della scena 
 pop\, classica\, jazz e rock internazionale\, ciascuno a modo proprio.\n\n
 E sul palco del Teatro Parioli di Roma\, cinque musicisti che hanno collab
 orato per molti anni con Morricone in studio e in concerto\, Ludovico Fulc
 i (tastiere)\, Nanni Civitenga (basso)\, Nicola Costa (chitarre)\, Maurizi
 o Trippitelli (percussioni) e Massimo D'Agostino (batteria)\, eseguiranno 
 i brani del CD con gli stessi arrangiamenti\, intervallati dalle “transi
 zioni” musicali scritte dal Maestro Morricone per collegare tra loro i b
 rani presenti nel disco.\n\nA questi musicisti si aggiungono la voce recit
 ante dell’attore Giulio Berruti e i cantanti Maria Di\n\nBernardo e Stef
 ano Tanzillo. Durante il concerto saranno infine proiettati alcuni estratt
 i filmati da “My life\, my music”\, una video-intervista prodotta da L
 uigi Caiola con la regia di Giovanni Morricone\, figlio del Maestro\, in c
 ui lo stesso Morricone esprime le proprie idee riguardo alla sua musica e 
 alla sua attività di compositore.\n\nIl programma del concerto della dura
 ta di ottanta minuti comprende brani quali: “Il buono\, il brutto\, il c
 attivo”\, “C'era una volta il West”\, “Mission”\, “Nuovo Cinem
 a Paradiso”\, “Love affair”\, “Metti\, una sera a cena”\, Se tel
 efonando”\, “Cera una volta in America”\, “Malena”\, “La legge
 nda del pianista sull'oceano” e molti altri ancora.\n\n&nbsp\;\n\nMarted
 ì 15 febbraio\n\nOre 21\n\nNuovo Teatro Parioli\n\nVia Giosuè Borsi\, 20
  – Roma\n\nIngresso 24-33 Euro \n\nInfoline 065434851
ATTACH;FMTTYPE=image/jpeg:https://lazioeventi.com/wp-content/uploads/2022/
 02/Ennio-Morricone.jpg
CATEGORIES:Musica, Spettacoli e Danza nel Lazio
LOCATION:Roma\, Via Leopardi\, Roma\, Roma\, Lazio\, Italia
GEO:41.8942;12.5017
X-APPLE-STRUCTURED-LOCATION;VALUE=URI;X-ADDRESS=Via Leopardi\, Roma\, Roma\
 , Lazio\, Italia;X-APPLE-RADIUS=100;X-TITLE=Roma:geo:41.8942,12.5017
END:VEVENT
BEGIN:VTIMEZONE
TZID:Europe/Rome
X-LIC-LOCATION:Europe/Rome
BEGIN:STANDARD
DTSTART:20211031T020000
TZOFFSETFROM:+0200
TZOFFSETTO:+0100
TZNAME:CET
END:STANDARD
END:VTIMEZONE
END:VCALENDAR