BEGIN:VCALENDAR
VERSION:2.0
PRODID:-//wp-events-plugin.com//7.2.3.1//EN
TZID:Europe/Rome
X-WR-TIMEZONE:Europe/Rome
BEGIN:VEVENT
UID:42646@lazioeventi.com
DTSTART;TZID=Europe/Rome:20251005T100000
DTEND;TZID=Europe/Rome:20251005T230000
DTSTAMP:20251002T095528Z
URL:https://lazioeventi.com/eventi/welcome-winter-scauri
SUMMARY:Welcome Winter Scauri - Minturno - 5 Ottobre 25 10:00
DESCRIPTION:EVENTO GRATUITO A SCAURI!\nDomenica 5 ottobre 2025 il Lungomare
  di Scauri diventa area pedonale per una giornata indimenticabile!\n\nDall
 e 10:00 del mattino fino a tarda sera\n- Musica live\, dj set e spettacoli
  con:\n- Antonio Maiello\n- Andrea Di Vanni\n- Mario Tribuzio\n- I Bevitor
 i Longevi\n- Fabula B2B Arco\n- Gabry P\n- Diego Vitale\n- Teodoro Delfino
 \n- Bucalone\n- Mario Ciacciarella\n\nNon mancheranno gli stand gastronomi
 ci a cura del Bar Menoventi\, per gustare specialità locali e street food
  durante tutta la giornata!\n\nUn mix di musica\, divertimento e sapori su
 l mare di Scauri… e soprattutto INGRESSO LIBERO!\n\nCi vediamo sul Lungo
 mare di Scauri – porta amici e famiglia per vivere insieme un evento uni
 co!
ATTACH;FMTTYPE=image/jpeg:https://lazioeventi.com/wp-content/uploads/2025/
 10/welcome-scauri.jpg
CATEGORIES:Musica, Spettacoli e Danza nel Lazio,Sport, Tempo Libero e
 Divertimento nel Lazio
LOCATION:Minturno\, Comune\, Minturno\, Latina\, Lazio\, Italia
GEO:41.262274;13.746796000000018
X-APPLE-STRUCTURED-LOCATION;VALUE=URI;X-ADDRESS=Comune\, Minturno\, Latina\
 , Lazio\, Italia;X-APPLE-RADIUS=100;X-TITLE=Minturno:geo:41.262274,13.7467
 96000000018
END:VEVENT
BEGIN:VTIMEZONE
TZID:Europe/Rome
X-LIC-LOCATION:Europe/Rome
BEGIN:DAYLIGHT
DTSTART:20250330T030000
TZOFFSETFROM:+0100
TZOFFSETTO:+0200
TZNAME:CEST
END:DAYLIGHT
END:VTIMEZONE
END:VCALENDAR