BEGIN:VCALENDAR
VERSION:2.0
PRODID:-//wp-events-plugin.com//7.2.3.1//EN
TZID:Europe/Rome
X-WR-TIMEZONE:Europe/Rome
BEGIN:VEVENT
UID:30033@lazioeventi.com
DTSTART;TZID=Europe/Rome:20220527T110000
DTEND;TZID=Europe/Rome:20230312T190000
DTSTAMP:20220309T152904Z
URL:https://lazioeventi.com/eventi/what-a-wonderful-world
SUMMARY:What a Wonderful World - Roma - 27 Maggio 22 11:00
DESCRIPTION:Il nuovo grande allestimento della Collezione MAXXI: un percor
 so innovativo che unisce importanti installazioni di 14 artisti internazio
 nali tra opere chiave della Collezione e altre commissionate per l’occas
 ione.\nMicol Assaël | Ed Atkins | Rosa Barba | Rossella Biscotti | Simo
 n Denny | Rä Di Martino | Franklin Evans | Thomas Hirschhorn | Carsten
  Höller | Liliana Moro | Jon Rafman | Tatiana Trouvé | Paolo Ventura |
  James Webb Il titolo allude alla realtà di oggi e alla speranza per il d
 omani: attraverso lo sguardo visionario degli artisti evoca\, anche in m
 aniera ironica\, il nostro tempo costellato di grandi incertezze e sfide\,
  ma anche di molteplici possibilità umane e tecnologiche di grandi evoluz
 ioni e spinte verso il futuro. Le opere in mostra indagano le grandi quest
 ioni del progresso scientifico e tecnologico in relazione alle sfide dell
 ’epoca contemporanea: l’ibridazione tra specie ed ecosistemi\, tra esp
 erienze della realtà e interazioni virtuali\, tra mutamenti e innesti di 
 identità e generi\, nella riconfigurazione delle dinamiche sociali e poli
 tiche del nostro tempo.What a Wonderful World è un progetto sperimentale
  in progress realizzato in collaborazione con il Centro di ricerca HER Sh
 e Loves Data\, che ha visto la partecipazione di alcune professionalità d
 el Museo nella progettazione di un “prototipo performativo”. Tale prot
 otipo è ideato per applicare in modo inedito le tecnologie digitali alla 
 valorizzazione e promozione della Collezione del MAXXI Arte indagando l’
 ecosistema relazionale dell’opera d’arte attraverso l’analisi\, la v
 isualizzazione e l’interpretazione di dati generati dal pubblico nel dia
 logo con le opere in mostra.\n\n\nORARI:\n\n\n 	lunedì chiuso\;\n 	da mar
 tedì a venerdì 11 – 19\;\n 	sabato e domenica 10 – 19.\n\nLa bigliet
 teria è aperta fino a un’ora prima della chiusura del Museo\n\n
ATTACH;FMTTYPE=image/jpeg:https://lazioeventi.com/wp-content/uploads/2022/
 03/what_a_wonderful_world.jpg
CATEGORIES:Arte e Cultura nel Lazio
LOCATION:Roma\, Via Leopardi\, Roma\, Roma\, Lazio\, Italia
GEO:41.8942;12.5017
X-APPLE-STRUCTURED-LOCATION;VALUE=URI;X-ADDRESS=Via Leopardi\, Roma\, Roma\
 , Lazio\, Italia;X-APPLE-RADIUS=100;X-TITLE=Roma:geo:41.8942,12.5017
END:VEVENT
BEGIN:VTIMEZONE
TZID:Europe/Rome
X-LIC-LOCATION:Europe/Rome
BEGIN:DAYLIGHT
DTSTART:20220327T030000
TZOFFSETFROM:+0100
TZOFFSETTO:+0200
TZNAME:CEST
END:DAYLIGHT
BEGIN:STANDARD
DTSTART:20221030T020000
TZOFFSETFROM:+0200
TZOFFSETTO:+0100
TZNAME:CET
END:STANDARD
END:VTIMEZONE
END:VCALENDAR