BEGIN:VCALENDAR
VERSION:2.0
PRODID:-//wp-events-plugin.com//7.2.3.1//EN
TZID:Europe/Rome
X-WR-TIMEZONE:Europe/Rome
BEGIN:VEVENT
UID:33306@lazioeventi.com
DTSTART;TZID=Europe/Rome:20230119T190000
DTEND;TZID=Europe/Rome:20230119T203000
DTSTAMP:20221130T145346Z
URL:https://lazioeventi.com/eventi/white-rabbit-red-rabbit-2
SUMMARY:White Rabbit Red Rabbit - Roma - 19 Gennaio 23 19:00
DESCRIPTION:Un progetto speciale realizzato grazie a un format di ampio suc
 cesso promosso negli anni da 369gradi\, una casa di produzione indipendent
 e che scommette da sempre sugli artisti più interessanti del panorama con
 temporaneo.\n\nL’esperienza di White Rabbit / Red Rabbit dell’autore i
 raniano Nassim Soleimanpour è un esperimento sociale in forma di spettaco
 lo: Mimosa Campironi\, attrice e cantante eclettica e autrice di spettacol
 i e contenuti fortemente sperimentali\, sarà l’interprete che per un’
 unica volta\, senza regia e senza prove\, aprirà la busta sigillata che c
 ontiene il testo già sul palco e condividerà il contenuto con il pubblic
 o.
ATTACH;FMTTYPE=image/jpeg:https://lazioeventi.com/wp-content/uploads/2022/
 11/QUAGLIA.jpg
CATEGORIES:Musica, Spettacoli e Danza nel Lazio
LOCATION:Roma\, Via Leopardi\, Roma\, Roma\, Lazio\, Italia
GEO:41.8942;12.5017
X-APPLE-STRUCTURED-LOCATION;VALUE=URI;X-ADDRESS=Via Leopardi\, Roma\, Roma\
 , Lazio\, Italia;X-APPLE-RADIUS=100;X-TITLE=Roma:geo:41.8942,12.5017
END:VEVENT
BEGIN:VTIMEZONE
TZID:Europe/Rome
X-LIC-LOCATION:Europe/Rome
BEGIN:STANDARD
DTSTART:20221030T020000
TZOFFSETFROM:+0200
TZOFFSETTO:+0100
TZNAME:CET
END:STANDARD
END:VTIMEZONE
END:VCALENDAR