BEGIN:VCALENDAR
VERSION:2.0
PRODID:-//wp-events-plugin.com//7.2.3.1//EN
TZID:Europe/Rome
X-WR-TIMEZONE:Europe/Rome
BEGIN:VEVENT
UID:29790@lazioeventi.com
DTSTART;TZID=Europe/Rome:20220115T150000
DTEND;TZID=Europe/Rome:20220218T190000
DTSTAMP:20220131T173301Z
URL:https://lazioeventi.com/eventi/wild-bunch-la-mostra-personale-di-lucam
 aleonte
SUMMARY:WILD BUNCH la mostra personale di Lucamaleonte - Roma - 15 Gennaio 
 22 15:00
DESCRIPTION:La mostra racchiude immagini e simbologie presenti nell’immag
 inario dell’artista\, alcune delle quali possiamo ritrovarle nelle sue v
 ecchie opere murarie. Le opere in mostra possono essere suddivise in tre s
 erie: i mucchi\, gli animali singoli ripresi dagli insiemi e le opere simb
 oliche.\n\nNelle sue opere Lucamaleonte porta alla luce immagini del passa
 to ispirati ad iconografie medioevali\, simboli esoterici ed animali. Gli 
 animali sono raffigurati in Mucchi selvaggi\, sottolineando il loro senso 
 di coralità inseriti in un sincretismo simbolico. L’insieme degli anima
 li forma una geometria in equilibrio\, facendo emergere il senso di profon
 dità\, e di quantità.\n\nL’attenzione per i dettagli disegnati in modo
  fine e accurato ricorda le xilografie e i basso rilievi medioevali\, enfa
 tizzando i contorni e le sagome ben definite. Gli stessi animali rappresen
 tanti nel loro insieme vengono poi ripresi ed estrapolati dal mucchio\, in
  una condizione di unicità e singolarità come a voler rappresentare lo s
 tudio del soggetto\, accentuando ogni singola linea ed ombra di colore. Le
  linee sono spesse e ben definite\, il tratto è sicuro e morbido\, ma anc
 he attento ad ogni singola movimento e forma.\n\nI simboli rappresentati i
 ndagano l’universo alchemico\, estrapolando i loro significati ed insere
 ndoli in nuovi contenuti e rimandi. L’animale rappresentato ha la una fu
 nzione tolemaica che viene estrapolata per farne diventare uno schema: una
  costruzione paradigmatica. La corona spezzata che distrugge i vecchi dogm
 i ma allo stesso tempo pone l’attenzione all’intervento divino.\n\nOra
 ri di apertura: dal martedi al sabato\, dalle 15.00 alle 19.00
ATTACH;FMTTYPE=image/jpeg:https://lazioeventi.com/wp-content/uploads/2022/
 01/wild-bunch.jpg
CATEGORIES:Arte e Cultura nel Lazio
LOCATION:Roma\, Via Leopardi\, Roma\, Roma\, Lazio\, Italia
GEO:41.8942;12.5017
X-APPLE-STRUCTURED-LOCATION;VALUE=URI;X-ADDRESS=Via Leopardi\, Roma\, Roma\
 , Lazio\, Italia;X-APPLE-RADIUS=100;X-TITLE=Roma:geo:41.8942,12.5017
END:VEVENT
BEGIN:VTIMEZONE
TZID:Europe/Rome
X-LIC-LOCATION:Europe/Rome
BEGIN:STANDARD
DTSTART:20211031T020000
TZOFFSETFROM:+0200
TZOFFSETTO:+0100
TZNAME:CET
END:STANDARD
END:VTIMEZONE
END:VCALENDAR