BEGIN:VCALENDAR
VERSION:2.0
PRODID:-//wp-events-plugin.com//7.2.3.1//EN
TZID:Europe/Rome
X-WR-TIMEZONE:Europe/Rome
BEGIN:VEVENT
UID:27906@lazioeventi.com
DTSTART;TZID=Europe/Rome;VALUE=DATE:20201009
DTEND;TZID=Europe/Rome;VALUE=DATE:20201012
DTSTAMP:20201007T211710Z
URL:https://lazioeventi.com/eventi/women-for-fest
SUMMARY:Women For Fest - Viterbo - 9 Ottobre 20 00:00
DESCRIPTION:Il Palazzo Doria Pamphilj di San Martino al Cimino\, gestito da
 lla società regionale LAZIOcrea\, per un intero weekend da venerdì 9 a d
 omenica 11 ottobre ospiterà “Women For Fest”: tre giorni dedicati all
 a creatività femminile con attività cul
ATTACH;FMTTYPE=image/jpeg:https://lazioeventi.com/wp-content/uploads/2020/
 10/women.jpg
CATEGORIES:Musica, Spettacoli e Danza nel Lazio,Varie
LOCATION:Viterbo\, Comune\, Viterbo\, Viterbo\, Lazio\, Italia
GEO:42.417;12.1051
X-APPLE-STRUCTURED-LOCATION;VALUE=URI;X-ADDRESS=Comune\, Viterbo\, Viterbo\
 , Lazio\, Italia;X-APPLE-RADIUS=100;X-TITLE=Viterbo:geo:42.417,12.1051
END:VEVENT
BEGIN:VTIMEZONE
TZID:Europe/Rome
X-LIC-LOCATION:Europe/Rome
BEGIN:DAYLIGHT
DTSTART:20200329T030000
TZOFFSETFROM:+0100
TZOFFSETTO:+0200
TZNAME:CEST
END:DAYLIGHT
END:VTIMEZONE
END:VCALENDAR