BEGIN:VCALENDAR
VERSION:2.0
PRODID:-//wp-events-plugin.com//7.2.3.1//EN
TZID:Europe/Rome
X-WR-TIMEZONE:Europe/Rome
BEGIN:VEVENT
UID:40991@lazioeventi.com
DTSTART;TZID=Europe/Rome:20250328T110000
DTEND;TZID=Europe/Rome:20250328T110000
DTSTAMP:20250319T162619Z
URL:https://lazioeventi.com/eventi/women-for-women-against-violence-camomi
 lla-award
SUMMARY:Women for Women against Violence – Camomilla Award - Roma - 28 Ma
 rzo 25 11:00
DESCRIPTION:Presentazione mostra fotografica dei 10 anni di WOMEN FOR WOMEN
  AGAINST VIOLENCE – CAMOMILLA AWARD\n\nL’Associazione Consorzio Umanit
 as\, guidata da Donatella Gimigliano\, festeggia il decennale di "Women fo
 r Women against Violence – Camomilla Award" con una mostra fotografica a
 ffidata agli scatti di Tiziana Luxardo. Un'iniziativa concepita come un vi
 aggio per immagini che racconta storie di dolore e di rinascita testimonia
 ndo la resilienza di donne sopravvissute alla violenza e al tumore al seno
 .\n\nLa presentazione dell'iniziativa avrà luogo a Roma\, nella Sala Angi
 olillo di Palazzo Wedekind\, sede dell'INPS\, venerdì 28 marzo\, alle ore
  11:00.\n\nAll'incontro\, moderato da Paola Ferazzoli\, inviata del progra
 mma RAI Porta a Porta e Presidente Giornaliste Italiane\, interverranno: O
 n. Eugenia Roccella\, Ministro per le Pari Opportunità\; On. Svetlana Cel
 li\, Presidente Assemblea Capitolina\; On. Antonello Aurigemma\, President
 e Consiglio Regionale del Lazio\; Avv. Gabriele Fava\, Presidente INPS\; P
 rof. Francesco Schittulli\, Presidente LILT – Lega Italiana Lotta contro
  i Tumori\; Dott.ssa Cristina Deidda\, Direttore Centrale Formazione e Acc
 ademia INPS\; Tiziana Luxardo\, Fotografa\; Donatella Gimigliano\, Preside
 nte Associazione Consorzio Umanitas\, ideatrice e promotrice del progetto.
ATTACH;FMTTYPE=image/jpeg:https://lazioeventi.com/wp-content/uploads/2025/
 03/LOGO-MOSTRA-ULTIMO-OK.jpg
CATEGORIES:Arte e Cultura nel Lazio
LOCATION:Roma\, Via Leopardi\, Roma\, Roma\, Lazio\, Italia
GEO:41.8942;12.5017
X-APPLE-STRUCTURED-LOCATION;VALUE=URI;X-ADDRESS=Via Leopardi\, Roma\, Roma\
 , Lazio\, Italia;X-APPLE-RADIUS=100;X-TITLE=Roma:geo:41.8942,12.5017
END:VEVENT
BEGIN:VTIMEZONE
TZID:Europe/Rome
X-LIC-LOCATION:Europe/Rome
BEGIN:STANDARD
DTSTART:20241027T020000
TZOFFSETFROM:+0200
TZOFFSETTO:+0100
TZNAME:CET
END:STANDARD
END:VTIMEZONE
END:VCALENDAR