BEGIN:VCALENDAR
VERSION:2.0
PRODID:-//wp-events-plugin.com//7.2.3.1//EN
TZID:Europe/Rome
X-WR-TIMEZONE:Europe/Rome
BEGIN:VEVENT
UID:36133@lazioeventi.com
DTSTART;TZID=Europe/Rome;VALUE=DATE:20230719
DTEND;TZID=Europe/Rome;VALUE=DATE:20230721
DTSTAMP:20230703T100802Z
URL:https://lazioeventi.com/eventi/workshop-al-mompeo-short-film-festival
SUMMARY:Workshop al Mompeo Short Film Festival - Mompeo - 19 Luglio 23 00:0
 0
DESCRIPTION:MOMPEO SHORT FILM FESTIVAL\n\nAperte le iscrizioni ai due works
 hop gratuiti di "Scrittura creativa" e "Sceneggiatura" curati da Mariolina
  Venezia\, Premio Campiello 2007 e sceneggiatrice di cinema e serie TV (La
  Squadra\, Don Matteo\, Imma Tataranni\, ecc).\n\nI due laboratori si terr
 anno il 19 e 20 luglio nel Castello Orsini-Naro di Mompeo (Rieti) in occas
 ione del Mompeo International Short Film Festival (dal 19 al 22 luglio 202
 3).\n\nI workshop sono aperti a studenti di cinema e di scrittura\, accade
 mie musicali e di arte\, studenti universitari di qualsiasi facoltà\, pro
 fessionisti del settore\, aspiranti scrittori\, registi e sceneggiatori\, 
 attori di cinema e teatro e a chiunque voglia cimentarsi con la scrittura 
 e la sceneggiatura di un corto o di un film.\n\nScadenza iscrizioni: 10 lu
 glio 2023\n
ATTACH;FMTTYPE=image/jpeg:https://lazioeventi.com/wp-content/uploads/2023/
 07/mompeo-short-film-festival.jpg
CATEGORIES:Varie
LOCATION:Mompeo\, Comune\, Mompeo\, Rieti\, Lazio\, Italia
GEO:42.248;12.7521
X-APPLE-STRUCTURED-LOCATION;VALUE=URI;X-ADDRESS=Comune\, Mompeo\, Rieti\, L
 azio\, Italia;X-APPLE-RADIUS=100;X-TITLE=Mompeo:geo:42.248,12.7521
END:VEVENT
BEGIN:VTIMEZONE
TZID:Europe/Rome
X-LIC-LOCATION:Europe/Rome
BEGIN:DAYLIGHT
DTSTART:20230326T030000
TZOFFSETFROM:+0100
TZOFFSETTO:+0200
TZNAME:CEST
END:DAYLIGHT
END:VTIMEZONE
END:VCALENDAR