BEGIN:VCALENDAR
VERSION:2.0
PRODID:-//wp-events-plugin.com//7.2.3.1//EN
TZID:Europe/Rome
X-WR-TIMEZONE:Europe/Rome
BEGIN:VEVENT
UID:43541@lazioeventi.com
DTSTART;TZID=Europe/Rome:20260204T103000
DTEND;TZID=Europe/Rome:20260205T133000
DTSTAMP:20260113T104100Z
URL:https://lazioeventi.com/eventi/workshop-con-beatrice-libonati
SUMMARY:Workshop con Beatrice Libonati - Roma - 4 Febbraio 26 10:30
DESCRIPTION:Danzatrice solista e assistente artistica nella compagnia di Pi
 na Bausch \n\n5 febbraio dalle 14:30 lettura di poesie di Beatrice Libonat
 i accompagnate da qualche suo passo di danza\n\n𝗕𝗘𝗔𝗧𝗥𝗜
 𝗖𝗘 𝗟𝗜𝗕𝗢𝗡𝗔𝗧𝗜\nStudia danza all’Accademia Na
 zionale di Danza di Roma\, conseguendo la laurea magistralis\, si speciali
 zza nel perfezionamento in coreografia\, e studia a “La Sapienza“\, un
 iversità di Roma\, lettere e spettacoli. Nel 1977\, lavora con Susanne Li
 nke nell’FTS.\nDal 1978 al 2006 è danzatrice solista\, nella compagnia 
 di Pina Bausch. \nInoltre è assistente artistica per il “Kontakthof con
  Signore e Signori di 65 anni”.\nNel 1984\, Beatrice e Jan Minarik giran
 o il film “Barbablù” di Pina come protagonisti. Nel 2020 lei e suo ma
 rito Jan Minarik rimontano il Barbablù per la compagnia.\nNel 2021 e nel 
 2025\, crea le coreografie per il regista Giuseppe Sollazzo per il “Fest
 ival Campania“ e il teatro Mercadante a Napoli. \nNel 2024 la Pina Bausc
 h Foundation la invita in qualità di direttrice artistica\, per il rimont
 aggio del Barbablù con i danzatori dell’Opéra di Parigi. \nNell’autu
 nno del 2024\, con i colleghi originali del Kontakthof di Pina Bausch\, pr
 ende parte al progetto Kontakthof Echoes of ’78 diretto da Meryl Tankard
 .\n\n𝗜𝗟 𝗪𝗢𝗥𝗞𝗦𝗛𝗢𝗣 \n"Piroettando\, le foglie 
 luminose di giallo volano nello spazio"\nDopo una lunghissima esperienza d
 i quasi trent’anni con Pina Bausch\, il mio vuole essere un seminario-la
 boratorio che accenna a questo periodo ma che vuole anche rendere i partec
 ipanti attivi alle loro stesse impressioni e ricordi che hanno avuto veden
 do qualcosa di Pina Bausch.\nEsploreremo non solo i movimenti e le situazi
 oni di cui i partecipanti hanno un vivo ricordo\, ma anche studieremo sia 
 quei potenti movimenti generosi di pezzi famosi\, sia quelli minimalisti c
 he determinano il carattere di una frase in silenzio.\n\nPRENOTAZIONE OBBL
 IGATRIA ENTRO IL 31 GENNAIO\nINFO E PRENOTAZIONI:  infolascatoladellarte@g
 mail.com
ATTACH;FMTTYPE=image/jpeg:https://lazioeventi.com/wp-content/uploads/2026/
 01/libonati.jpg
CATEGORIES:Musica, Spettacoli e Danza nel Lazio,Varie
LOCATION:Roma\, Via Leopardi\, Roma\, Roma\, Lazio\, Italia
GEO:41.8942;12.5017
X-APPLE-STRUCTURED-LOCATION;VALUE=URI;X-ADDRESS=Via Leopardi\, Roma\, Roma\
 , Lazio\, Italia;X-APPLE-RADIUS=100;X-TITLE=Roma:geo:41.8942,12.5017
END:VEVENT
BEGIN:VTIMEZONE
TZID:Europe/Rome
X-LIC-LOCATION:Europe/Rome
BEGIN:STANDARD
DTSTART:20251026T020000
TZOFFSETFROM:+0200
TZOFFSETTO:+0100
TZNAME:CET
END:STANDARD
END:VTIMEZONE
END:VCALENDAR