BEGIN:VCALENDAR
VERSION:2.0
PRODID:-//wp-events-plugin.com//7.2.3.1//EN
TZID:Europe/Rome
X-WR-TIMEZONE:Europe/Rome
BEGIN:VEVENT
UID:44295@lazioeventi.com
DTSTART;TZID=Europe/Rome:20260510T120000
DTEND;TZID=Europe/Rome:20260510T170000
DTSTAMP:20260423T162545Z
URL:https://lazioeventi.com/eventi/xix-sagra-degli-gnocchi
SUMMARY:XIX Sagra degli Gnocchi - Riofreddo - 10 Maggio 26 12:00
DESCRIPTION:Domenica 10 maggio 2026 la Pro Loco Riofreddo organizza la XIX 
 Sagra degli Gnocchi nel Piazzale Ricciotti Garibaldi di Riofreddo.\n\nDall
 e ore 12:00 gli stand gastronomici proporranno bruschetta\, gnocchi al sug
 o di carne oppure ai funghi tartufati\, salsiccia arrosto\, arrosticini di
  pecora\, pane e bibita\, oltre a un menu bambino.\n\nLa manifestazione va
 lorizza uno dei piatti tipici riofreddani e sarà accompagnata da intratte
 nimento dal vivo.\n\nIngresso libero con consumazioni a pagamento.\n\nInfo
 rmazioni tramite Pro Loco Riofreddo e pagina ufficiale dell'evento.
ATTACH;FMTTYPE=image/jpeg:https://lazioeventi.com/wp-content/uploads/2026/
 04/Manifesto-GNOCCHI-2026_20260411_123036_0000_page-0001.jpg
CATEGORIES:Sagre, Gastronomia e Tradizioni nel Lazio
LOCATION:Riofreddo\, Comune\, Riofreddo\, Roma\, Lazio\, Italia
GEO:42.0615;12.9995
X-APPLE-STRUCTURED-LOCATION;VALUE=URI;X-ADDRESS=Comune\, Riofreddo\, Roma\,
  Lazio\, Italia;X-APPLE-RADIUS=100;X-TITLE=Riofreddo:geo:42.0615,12.9995
END:VEVENT
BEGIN:VTIMEZONE
TZID:Europe/Rome
X-LIC-LOCATION:Europe/Rome
BEGIN:DAYLIGHT
DTSTART:20260329T030000
TZOFFSETFROM:+0100
TZOFFSETTO:+0200
TZNAME:CEST
END:DAYLIGHT
END:VTIMEZONE
END:VCALENDAR