BEGIN:VCALENDAR
VERSION:2.0
PRODID:-//wp-events-plugin.com//7.2.3.1//EN
TZID:Europe/Rome
X-WR-TIMEZONE:Europe/Rome
BEGIN:VEVENT
UID:37287@lazioeventi.com
DTSTART;TZID=Europe/Rome;VALUE=DATE:20231008
DTEND;TZID=Europe/Rome;VALUE=DATE:20231009
DTSTAMP:20231001T220156Z
URL:https://lazioeventi.com/eventi/xxiv-corri-cures
SUMMARY:XXIV Corri Cures - Fara in Sabina - 8 Ottobre 23 00:00
DESCRIPTION:Domenica 8 ottobre 2023 a Passo Corese alle 9:30\, presso lo st
 adio Amerigo Di Tommaso\, prenderà il via la XIV edizione della Corri Cur
 es – Trofeo Car Camper\, gara podistica regionale di 10\,5 km riservata 
 ad atleti e atlete delle varie categorie FIDAL.\n\nL’evento\, organizzat
 o come di consueto dall’ASD Corri Cures in collaborazione con l’ASD At
 letico Monterotondo e con il patrocinio dell’Assessorato allo Sport dell
 a Città di Fara in Sabina\, quest’anno vedrà partenza e arrivo nello s
 tadio cittadino\, mentre il percorso della gara si snoderà come di consue
 to tra gli ulivi e i sentieri\, oggi asfaltati\, dell’antica Cures capit
 ale dei Sabini.\n\nUna ulteriore novità è rappresentata dallo svolgiment
 o\, sulla pista dello stadio\, di una serie di gare riservate alle categor
 ie giovanili (cuccioli/pulcini/esordienti/ragazzi/cadetti) maschili e femm
 inili.\n\nLe iscrizioni per le società e i singoli concorrenti si chiuder
 anno il 5 ottobre alle ore 20:00.\n\nPiuttosto ricco si presenta il montep
 remi\, costituito da prodotti locali e in particolare da confezioni di oli
 o extravergine d’oliva di una nota azienda del territorio\; ciascun conc
 orrente\, inoltre\, riceverà un utile zainetto e un’artistica medaglia 
 ricordo in legno.\n\nI premi sono riservati ai primi tre concorrenti class
 ificati della classifica assoluta maschile e femminile\; saranno inoltre p
 remiati i primi dieci atleti e atlete della varie categorie.\n\nLo scorso 
 anno il successo arrise per la quarta volta a Umberto Persi (ASD AT Runnin
 g) tra gli uomini e a Annalaura Bravetti (ASD Podistica Solidarietà) tra 
 le donne.\n\nLuciano Nobili\, patron della manifestazione\, si è detto ce
 rto di ripetere anche stavolta i successi delle precedenti edizioni\, anch
 e perché può contare su uno staff di collaboratori particolarmente motiv
 ati.\n\nPer informazioni: www.corricures.it / www.atleticomonterotondo.it 
 – 3292965612
ATTACH;FMTTYPE=image/jpeg:https://lazioeventi.com/wp-content/uploads/2023/
 09/Locandina_corricures_2023-2.jpg
CATEGORIES:Musica, Spettacoli e Danza nel Lazio,Sport, Tempo Libero e
 Divertimento nel Lazio
LOCATION:Fara in Sabina\, Comune\, Fara in Sabina\, Rieti\, Lazio\, Italia
GEO:42.2099;12.7291
X-APPLE-STRUCTURED-LOCATION;VALUE=URI;X-ADDRESS=Comune\, Fara in Sabina\, R
 ieti\, Lazio\, Italia;X-APPLE-RADIUS=100;X-TITLE=Fara in Sabina:geo:42.209
 9,12.7291
END:VEVENT
BEGIN:VTIMEZONE
TZID:Europe/Rome
X-LIC-LOCATION:Europe/Rome
BEGIN:DAYLIGHT
DTSTART:20230326T030000
TZOFFSETFROM:+0100
TZOFFSETTO:+0200
TZNAME:CEST
END:DAYLIGHT
END:VTIMEZONE
END:VCALENDAR