BEGIN:VCALENDAR
VERSION:2.0
PRODID:-//wp-events-plugin.com//7.2.3.1//EN
TZID:Europe/Rome
X-WR-TIMEZONE:Europe/Rome
BEGIN:VEVENT
UID:37208@lazioeventi.com
DTSTART;TZID=Europe/Rome;VALUE=DATE:20231103
DTEND;TZID=Europe/Rome;VALUE=DATE:20231106
DTSTAMP:20231030T102109Z
URL:https://lazioeventi.com/eventi/you-three-the-young-city-4
SUMMARY:YOU Three - The YOUng city - Roma - 3 Novembre 23 00:00
DESCRIPTION:Nuovi appuntamenti per il fine settimana del 3\, 4 e 5 novembre
  a Centrale Preneste Teatro a Roma (Via Alberto da Giussano\, 58) con la r
 assegna di spettacoli dal vivo di teatro\, danza\, musica\, circo/teatro e
  nuovi linguaggi del contemporaneo YOU Three - The YOUng city. Tutti gli e
 venti sono a ingresso libero con prenotazione consigliata.\nPer la sezione
  La City è YOUNG\, con appuntamenti in serale per adolescenti\, giovani e
  adulti\, venerdì 3 novembre alle 21.00 in scena lo spettacolo “Il maes
 tro e Margherita” di Cromo Collettivo Artistico. Lo spettacolo\, ispirat
 o all’omonimo romanzo di Bulgakov\, è con Chiara Sarcona e Nicola D’E
 midio e la regia di Mario Gonzalez. Mosca\, 1931. In una società segnata 
 dalle guerre del primo Novecento\, dalla fame e dalla miseria\, fra i lett
 erati e i borghesi anti rivoluzionari di un popolo che sposa l’ateismo e
  lo scetticismo\, fa la sua comparsa Satana in persona. Sotto le vesti di 
 un cittadino esperto in magia nera\, il diavolo non è solo protagonista d
 i eventi bizzarri e di disordini in città\, ma è salvatore di una grande
  storia d’amore: quella fra il Maestro e Margherita. Uno scrittore torme
 ntato dall’insuccesso del romanzo per il quale ha dedicato la vita e che
  lo porterà alla depressione e al manicomio. Una donna che non si dà pac
 e per aver perso le tracce dell’uomo che ama ed è disposta a tutto per 
 ritrovarlo.\nSabato 4 novembre\, sempre alle 21.00\, Francesca Pica è l
 ’interprete dello spettacolo “MARE” liberamente tratto da “Donne d
 i mare”\, “La danza delle streghe” e “I confini irreali delle Eoli
 e” di Macrina Marilena Maffei. Progetto tutorato da Le belle bandiere\, 
 col patrocinio morale del Comune di Lipari e col sostegno del Teatro Trast
 evere. Lo spettacolo è di e con Francesca Pica\, supervisione di Elena Bu
 cci\, scenografia e costume di Domenico Latronico\, luci di Elena Vastano 
 e assistente all’allestimento Valerio Pietrovita. Una donna fa un sogno\
 , inizia a parlarne e scivola in una notte nera\, in una piccola isola\, i
 n una piccola spiaggia di sassi\, dove una donna incinta aspetta che il ma
 rito la raggiunga per poter tirare la rete a terra e recuperare il pescato
 . Nell’attesa il tempo e lo spazio si dilatano\, realtà e fantasia si c
 onfondono. Visioni\, incontri inaspettati\, viaggi e ricordi aprono la pos
 sibilità a cose impossibili. Miti\, simboli e figure arcaiche\, ora amich
 evoli ora minacciose\, svelano le isole Eolie e la loro feroce bellezza\, 
 tra storie di majare\, pescatrici e serpi con i capelli. Il parto irrompe 
 all’improvviso assottigliando irrimediabilmente il confine tra l’ordin
 ario e lo straordinario\, fino a fonderli. Talvolta le voci che giungono d
 al passato hanno un grande fascino non solo perché parlano di un mondo lo
 ntano e a noi oscuro\, ma anche perché nel momento in cui ci raggiungono\
 , suonano alle nostre orecchie come un oracolo\, un riflesso della nostra 
 stessa vita\, una divinazione.\nPer La City è KIDS\, in calendario la dom
 enica pomeriggio per bambini e famiglie\, domenica 5 novembre alle 16.30 I
 Zimba Culture/Gaspare Nasuto in scena con "Pulcinella e Cappuccetto rosso"
 . Una delle fiabe più amate da grandi e bambini\, in una versione inedita
 \, tra i grandi maestri dell'arte dei burattini tradizioni. L'artista\, am
 basciatore nel mondo della maschera per conto del Museo di Acerra ha tenut
 o spettacoli e conferenze raccogliendo oltre 30 premi internazionali e num
 erosi attestati di merito per l'alto valore educativo dei suoi lavori teat
 rali. Qua Pulcinella e Ciccillo sono alle prese con il duro lavoro nei cam
 pi quando la notizia della nonna malata arriva al villaggio\, nessuno può
  andare a trovarla per portarle conforto. Il compito sarà affidato alla p
 iccola bimba con il mantello rosso che\, ignara del pericolo\, si lascerà
  ingannare da un famelico lupo. Adatto dai 5 anni.\n\nTutti gli eventi son
 o a ingresso libero con prenotazione consigliata on line su https://centra
 leprenesteteatro.it/calendario-eventi/ oppure ingresso diretto il giorno d
 ello spettacolo - per le serali dalle h 20.30 e per le pomeridiane dalle h
  16.00 - previa disponibilità dei posti.\n\nIl progetto è realizzato con
  il sostegno del Ministero della Cultura - Direzione Generale Spettacolo e
 d è vincitore dell'Avviso Pubblico Lo spettacolo dal vivo fuori dal Centr
 o - Anno 2023 promosso da Roma Capitale - Dipartimento Attività Culturali
 .\n\nYOU Three - The YOUng city\nDal 29 settembre al 26 novembre 2023\nCen
 trale Preneste Teatro Via Alberto da Giussano\, 58 – Roma\n\nPercorso so
 stenibile:\nAutobus: 81 – 112 –213 – 312 – 409 – 545 Tram: 5 –
  14 – 19 Fermata Giussano\n\nINGRESSO LIBERO con prenotazione consigliat
 a
ATTACH;FMTTYPE=image/jpeg:https://lazioeventi.com/wp-content/uploads/2023/
 09/Locandina-YOU3.jpg
CATEGORIES:Musica, Spettacoli e Danza nel Lazio
LOCATION:Roma\, Via Leopardi\, Roma\, Roma\, Lazio\, Italia
GEO:41.8942;12.5017
X-APPLE-STRUCTURED-LOCATION;VALUE=URI;X-ADDRESS=Via Leopardi\, Roma\, Roma\
 , Lazio\, Italia;X-APPLE-RADIUS=100;X-TITLE=Roma:geo:41.8942,12.5017
END:VEVENT
BEGIN:VTIMEZONE
TZID:Europe/Rome
X-LIC-LOCATION:Europe/Rome
BEGIN:STANDARD
DTSTART:20231029T020000
TZOFFSETFROM:+0200
TZOFFSETTO:+0100
TZNAME:CET
END:STANDARD
END:VTIMEZONE
END:VCALENDAR