BEGIN:VCALENDAR
VERSION:2.0
PRODID:-//wp-events-plugin.com//7.2.3.1//EN
TZID:Europe/Rome
X-WR-TIMEZONE:Europe/Rome
BEGIN:VEVENT
UID:42051@lazioeventi.com
DTSTART;TZID=Europe/Rome:20250919T170000
DTEND;TZID=Europe/Rome:20250920T230000
DTSTAMP:20250715T143545Z
URL:https://lazioeventi.com/eventi/zoe-fest-3
SUMMARY:Zoe Fest - Roviano - 19 Settembre 25 17:00
DESCRIPTION:Roviano si conferma borgo di riferimento per la musica popolare
  del Lazio.\n\nPrende quota la seconda edizione dello ZOE FEST\, il festiv
 al di musica popolare curato e diretto dalla direzione scientifica del Mus
 eo della Civiltà Contadina “Valle dell’Aniene”.\nIl programma inten
 de valorizzare le tradizioni musicali dell'area laziale\, in un confronto 
 con le musiche popolari di altri territori. Oltre alla musica dal vivo (co
 n ben sette concerti!)\, sono in programma seminari didattici e creativi s
 ulla musica tradizionale e la partecipazione di personalità del mondo del
 l’etnomusicologia\, di costruttori di strumenti popolari e la presentazi
 one di opere librarie sul tema.\n\nIl festival\, nella sua dimensione inte
 rculturale e intergenerazionale\, propone un format che possa sviluppare o
 ccasioni di incontro per diverse fasce di pubblico\, appassionati\, giovan
 i e meno giovani\, promuovendo un dialogo tra passato e presente\, miscela
 ndo i saperi tradizionali con linguaggi artistici contemporanei.\n\nLa par
 tecipazione ai concerti\, ai laboratori e a tutti gli incontri è assoluta
 mente gratuita Si parte giovedì 10 luglio\, nella suggestiva cornice del 
 Castello Brancaccio\, con la presentazione del Festival e poi il concerto 
 della cantante Lavinia Mancusi (voce\, chitarra\, percussioni)\, accompagn
 ata dal fisarmonicista Mauro Menegazzi. Il giorno seguente (11) sarà dato
  spazio alla musica tradizionale del frusinate (presentazione del volume c
 urato dall’etnomusicologa Giuseppina Colicci “Suoni e storie ai piedi 
 dei monti Ernici”\, con esemplificazioni musicali eseguite all’organet
 to\, tamburo\, chitarra e strumenti della tradizione pastorale) e della Sa
 bina (con la presenza di suonatori di “ciaramelle”\, la tipica zampogn
 a dell’Alta Sabina).\n\nIl 12\, nella mattinata\, si terrà il laborator
 io di costruzione di strumenti della tradizione popolare del Lazio meridio
 nale\, in cui sarà possibile creare un proprio oggetto sonoro\, mentre ne
 l pomeriggio sarà avviato il laboratorio di tamburello tenuto da Mattia d
 ell’Uomo\, in cui potrà essere acquisita la tecnica base per accompagna
 re i repertori da ballo laziali. In serata\, presso il Parco Montano\, si 
 terrà un aperitivo musicale con David Sarnelli (fisarmonica) e Vladimiro 
 Cantaluppi (violino e bulgarì cretese) in cui potremo apprezzare le melod
 ie della tradizione musicale artigiana “dagli Appennini al Mar Egeo”.\
 n\nIl 19 luglio\, in serata\, nella Piazza principale del paese\, sarà la
  volta de I Trillanti\, gruppo di Alatri\, noto sia in Italia\, sia al di 
 fuori dei confini nazionali.\n\nNel pomeriggio del 27 sarà presentato il 
 volume “Il Centro di Documentazione Valle dell’Aniene” (curato da Em
 iliano Migliorini)\, a cui seguirà la presentazione del lavoro di ricostr
 uzione della zampogna rovianese effettuato da Alessandro Mazziotti. La zam
 pogna ricostruita sarà consegnata e troverà sistemazione a settembre neg
 li spazi espositivi del Museo della Civiltà Contadina.\nIn serata grande 
 spettacolo di musica e balli al Castello Brancaccio con i Bagarija Orkestr
 a (che fonde suoni e ritmi balcanici\, mediterranei e partenopei) e con il
  DJ set dell’artista Sergio Di Leo\, una performance di grande impatto\,
  che fonde suoni e ritmi di diverse tradizioni\, che mescola i suoni della
  programmazione con esecuzioni dal vivo.\n\nIl festival riprenderà poi a 
 settembre\, il 19\, con la presentazione del volume “Riprendiamoci la mu
 sica! Dal folk alla world music: il percorso artistico del Canzoniere del 
 Lazio” con la presenza dell’autore Gerardo Casiello\, e\, il 20\, con 
 lo spettacolo musicale “So’ nata fortunata” con Susanna Buffa (voce\
 , chitarra\, autoharp)\, Valentina Ferraiuolo\, (voce\, percussioni)\, Dom
 enico De Luca (chitarre).\n
ATTACH;FMTTYPE=image/jpeg:https://lazioeventi.com/wp-content/uploads/2025/
 07/zoe-fest-roviano.jpg
CATEGORIES:Arte e Cultura nel Lazio,Musica, Spettacoli e Danza nel Lazio
LOCATION:Roviano\, Comune\, Roviano\, Roma\, Lazio\, Italia
GEO:42.0254;12.9981
X-APPLE-STRUCTURED-LOCATION;VALUE=URI;X-ADDRESS=Comune\, Roviano\, Roma\, L
 azio\, Italia;X-APPLE-RADIUS=100;X-TITLE=Roviano:geo:42.0254,12.9981
END:VEVENT
BEGIN:VTIMEZONE
TZID:Europe/Rome
X-LIC-LOCATION:Europe/Rome
BEGIN:DAYLIGHT
DTSTART:20250330T030000
TZOFFSETFROM:+0100
TZOFFSETTO:+0200
TZNAME:CEST
END:DAYLIGHT
END:VTIMEZONE
END:VCALENDAR